BEGIN:VCALENDAR
VERSION:2.0
PRODID:-//Microsoft Corporation//Outlook 16.0 MIMEDIR//FR
CALSCALE:GREGORIAN
METHOD:PUBLISH
X-WR-TIMEZONE:Europe/Monaco
X-MS-OLK-FORCEINSPECTOROPEN:"TRUE"
BEGIN:VTIMEZONE
TZID:Europe/Monaco
BEGIN:STANDARD
DTSTART:20241027T010000
TZOFFSETTO:+0100
TZOFFSETFROM:+0200
RRULE:FREQ=YEARLY;BYMONTH=11;BYDAY=1SU
END:STANDARD
BEGIN:DAYLIGHT
DTSTART:20240331T010000
TZOFFSETTO:+0200
TZOFFSETFROM:+0100
RRULE:FREQ=YEARLY;BYMONTH=3;BYDAY=2SU
END:DAYLIGHT
END:VTIMEZONE
BEGIN:VEVENT
UID:4659-4f4bf9fdca24067f01d5d519201d15d5-principocket.com\n
DTSTART:20241010T000000
DTEND:20241014T000000
TRANSP:TRANSPARENT
IMAGE;VALUE=URI;DISPLAY=;FMTTYPE=image/png:https://app.monacoplatform.
 com/uploads/ro/rou2gZO9IY.jpg
STATUS:CONFIRMED
SUMMARY:Theatre - "Radicale"
DESCRIPTION:Thursday 10\, Friday 11\, Saturday 12 October at 8 pm\, an
 d Sunday 13 October at 4.30 pm\, Théâtre des Muses\n\nRadicale is a 
 tale about healing.\nA year ago\, Paul underwent a successful prostate
  cancer operation. This deliberately offbeat play tells the story of w
 hat turned out to be a tumultuous year for Paul. For while the operati
 on did its main job\, it nonetheless left behind some distinctly unwan
 ted side effects. A comedy starring a trio of actors\, that takes a hu
 morous yet sensitive look at masculinity\, illness\, relationships\, a
 nd love.\n\n https://www.principocket.com/en/event/4f4bf9fdca24067f01d
 5d519201d15d5/theatre-radicale
LOCATION:45\, boulevard du Jardin Exotique
URL:https://www.principocket.com/event/4f4bf9fdca24067f01d5d519201d15d
 5/4659
DTSTAMP:20260420T121016Z
CREATED:20241009T134726Z
LAST-MODIFIED:20241009T134726Z
X-MICROSOFT-CDO-ALLDAYEVENT:TRUE
END:VEVENT
END:VCALENDAR
