BEGIN:VCALENDAR
VERSION:2.0
PRODID:-//Microsoft Corporation//Outlook 16.0 MIMEDIR//FR
CALSCALE:GREGORIAN
METHOD:PUBLISH
X-WR-TIMEZONE:Europe/Monaco
X-MS-OLK-FORCEINSPECTOROPEN:"TRUE"
BEGIN:VTIMEZONE
TZID:Europe/Monaco
BEGIN:STANDARD
DTSTART:20241027T010000
TZOFFSETTO:+0100
TZOFFSETFROM:+0200
RRULE:FREQ=YEARLY;BYMONTH=11;BYDAY=1SU
END:STANDARD
BEGIN:DAYLIGHT
DTSTART:20240331T010000
TZOFFSETTO:+0200
TZOFFSETFROM:+0100
RRULE:FREQ=YEARLY;BYMONTH=3;BYDAY=2SU
END:DAYLIGHT
END:VTIMEZONE
BEGIN:VEVENT
UID:4658-42f12b87e89cd29b6f4e1862b8be9c6b-principocket.com\n
DTSTART:20241009T180000
DTEND:20241009T180000
TRANSP:TRANSPARENT
IMAGE;VALUE=URI;DISPLAY=;FMTTYPE=image/png:https://app.monacoplatform.
 com/uploads/P1/P1IEExKSq9.jpg
STATUS:CONFIRMED
SUMMARY:Round Table - "A Mummy in Monaco"
DESCRIPTION:Wednesday 9 October 2024\, at 6 pm\, Musée d’Anthropolo
 gie Préhistorique\n\nStudy of an Egyptian mummy preserved at the Mona
 co Museum of Prehistoric Anthropology.\nRound table presented by Dr O.
  Notter\, Dr P. Brunner\, Prof. E. Fulcheri\, Dr C. Oliva\, Dr E. Ross
 oni-Notter\, and Mr R. Lorenzino. Learn all about the scientific resea
 rch inspired by the mummy. \nExperts from the Monaco Museum of Prehist
 oric Anthropology will be on hand to answer all your questions. There 
 will also be a tour led by Mr H. Mahfouz\, Egyptology lecturer\, and M
 r G. Stabellini\, a specialist in restoration.\n\n https://www.princip
 ocket.com/en/event/42f12b87e89cd29b6f4e1862b8be9c6b/round-table-a-mumm
 y-in-monaco
LOCATION:56 bis\, boulevard du Jardin Exotique
URL:https://www.principocket.com/event/42f12b87e89cd29b6f4e1862b8be9c6
 b/4658
DTSTAMP:20260420T140410Z
CREATED:20241009T134725Z
LAST-MODIFIED:20241009T134725Z
END:VEVENT
END:VCALENDAR
