BEGIN:VCALENDAR
VERSION:2.0
PRODID:-//Microsoft Corporation//Outlook 16.0 MIMEDIR//FR
CALSCALE:GREGORIAN
METHOD:PUBLISH
X-WR-TIMEZONE:Europe/Monaco
X-MS-OLK-FORCEINSPECTOROPEN:"TRUE"
BEGIN:VTIMEZONE
TZID:Europe/Monaco
BEGIN:STANDARD
DTSTART:20241027T010000
TZOFFSETTO:+0100
TZOFFSETFROM:+0200
RRULE:FREQ=YEARLY;BYMONTH=11;BYDAY=1SU
END:STANDARD
BEGIN:DAYLIGHT
DTSTART:20240331T010000
TZOFFSETTO:+0200
TZOFFSETFROM:+0100
RRULE:FREQ=YEARLY;BYMONTH=3;BYDAY=2SU
END:DAYLIGHT
END:VTIMEZONE
BEGIN:VEVENT
UID:4583-41e13500cc92bf7e90ab0436e0854ff5-principocket.com\n
DTSTART:20241123T203000
DTEND:20241123T203000
TRANSP:TRANSPARENT
IMAGE;VALUE=URI;DISPLAY=;FMTTYPE=image/png:https://app.monacoplatform.
 com/uploads/Ud/Ud4cMZljQ8.jpg
STATUS:CONFIRMED
SUMMARY:Concert - "AYO and Mayra Andrade"
DESCRIPTION:Saturday 23 November 2024\, at 8.30 pm\, Opéra Garnier Mo
 nte-Carlo\n\nMonte-Carlo Jazz Festival 2024 - A double-header of conce
 rts at the Opéra Garnier Monte-Carlo on 23 November\, with AYO follow
 ed by Mayra Andrade.\n\n https://www.principocket.com/en/event/41e1350
 0cc92bf7e90ab0436e0854ff5/concert-ayo-and-mayra-andrade
LOCATION:Place du Casino
URL:https://www.principocket.com/event/41e13500cc92bf7e90ab0436e0854ff
 5/4583
DTSTAMP:20260420T192937Z
CREATED:20241122T135050Z
LAST-MODIFIED:20241122T135050Z
END:VEVENT
END:VCALENDAR
