BEGIN:VCALENDAR
VERSION:2.0
PRODID:-//Microsoft Corporation//Outlook 16.0 MIMEDIR//FR
CALSCALE:GREGORIAN
METHOD:PUBLISH
X-WR-TIMEZONE:Europe/Monaco
X-MS-OLK-FORCEINSPECTOROPEN:"TRUE"
BEGIN:VTIMEZONE
TZID:Europe/Monaco
BEGIN:STANDARD
DTSTART:20241027T010000
TZOFFSETTO:+0100
TZOFFSETFROM:+0200
RRULE:FREQ=YEARLY;BYMONTH=11;BYDAY=1SU
END:STANDARD
BEGIN:DAYLIGHT
DTSTART:20240331T010000
TZOFFSETTO:+0200
TZOFFSETFROM:+0100
RRULE:FREQ=YEARLY;BYMONTH=3;BYDAY=2SU
END:DAYLIGHT
END:VTIMEZONE
BEGIN:VEVENT
UID:4152-a9244134d1914254c59943c9f3308b42-principocket.com\n
DTSTART:20241020T180000
DTEND:20241020T180000
TRANSP:TRANSPARENT
IMAGE;VALUE=URI;DISPLAY=;FMTTYPE=image/png:https://app.monacoplatform.
 com/uploads/fF/fFyGNr5BNs.jpg
STATUS:CONFIRMED
SUMMARY:OPMC - "Tribute to Shostakovich"
DESCRIPTION:Sunday 20 October 2024\, at 6 pm\, Auditorium Rainier III\
 n\nMonte-Carlo Philharmonic Orchestra\, 24/25 Season\, under the Presi
 dency of H.R.H. the Princess of Hanover - "Tribute to Shostakovich" wi
 th Nathalie STUTZMANN\, Conductor\,\nXavier DE MAISTRE\, Harp. Music t
 o be performed includes pieces by MAZZOLI\, MOSSOLOV\, AND SHOSTAKOVIC
 H.\n\n https://www.principocket.com/en/event/a9244134d1914254c59943c9f
 3308b42/opmc-tribute-to-shostakovich
LOCATION:Boulevard Louis II
URL:https://www.principocket.com/event/a9244134d1914254c59943c9f3308b4
 2/4152
DTSTAMP:20260422T171748Z
CREATED:20241009T134730Z
LAST-MODIFIED:20241009T134730Z
END:VEVENT
END:VCALENDAR
