BEGIN:VCALENDAR
VERSION:2.0
PRODID:-//Microsoft Corporation//Outlook 16.0 MIMEDIR//FR
CALSCALE:GREGORIAN
METHOD:PUBLISH
X-WR-TIMEZONE:Europe/Monaco
X-MS-OLK-FORCEINSPECTOROPEN:"TRUE"
BEGIN:VTIMEZONE
TZID:Europe/Monaco
BEGIN:STANDARD
DTSTART:20241027T010000
TZOFFSETTO:+0100
TZOFFSETFROM:+0200
RRULE:FREQ=YEARLY;BYMONTH=11;BYDAY=1SU
END:STANDARD
BEGIN:DAYLIGHT
DTSTART:20240331T010000
TZOFFSETTO:+0200
TZOFFSETFROM:+0100
RRULE:FREQ=YEARLY;BYMONTH=3;BYDAY=2SU
END:DAYLIGHT
END:VTIMEZONE
BEGIN:VEVENT
UID:4151-41b410e566d5a822e45b3994abf6f448-principocket.com\n
DTSTART:20241016T150000
DTEND:20241016T150000
TRANSP:TRANSPARENT
IMAGE;VALUE=URI;DISPLAY=;FMTTYPE=image/png:https://app.monacoplatform.
 com/uploads/fj/fjwNUrUZtA.jpg
STATUS:CONFIRMED
SUMMARY:OPMC - "The Fireman & Easy Street"
DESCRIPTION:Wednesday 16 October 2024\, at 3 pm\, Auditorium Rainier I
 II\n\nMonte-Carlo Philharmonic Orchestra\, 24/25 Season\, Under the Pr
 esidency of H.R.H. the Princess of Hanover - "The Fireman & Easy Stree
 t"\, CINE-CONCERT for all the family with Paul LAY\, Piano. Programme 
 includes: SCREENING OF CHARLIE CHAPLIN MOVIES.\n\n https://www.princip
 ocket.com/en/event/41b410e566d5a822e45b3994abf6f448/opmc-the-fireman-a
 nd-easy-street
LOCATION:Boulevard Louis II
URL:https://www.principocket.com/event/41b410e566d5a822e45b3994abf6f44
 8/4151
DTSTAMP:20260422T154314Z
CREATED:20241009T134728Z
LAST-MODIFIED:20241009T134728Z
END:VEVENT
END:VCALENDAR
