BEGIN:VCALENDAR
VERSION:2.0
PRODID:-//Microsoft Corporation//Outlook 16.0 MIMEDIR//FR
CALSCALE:GREGORIAN
METHOD:PUBLISH
X-WR-TIMEZONE:Europe/Monaco
X-MS-OLK-FORCEINSPECTOROPEN:"TRUE"
BEGIN:VTIMEZONE
TZID:Europe/Monaco
BEGIN:STANDARD
DTSTART:20241027T010000
TZOFFSETTO:+0100
TZOFFSETFROM:+0200
RRULE:FREQ=YEARLY;BYMONTH=11;BYDAY=1SU
END:STANDARD
BEGIN:DAYLIGHT
DTSTART:20240331T010000
TZOFFSETTO:+0200
TZOFFSETFROM:+0100
RRULE:FREQ=YEARLY;BYMONTH=3;BYDAY=2SU
END:DAYLIGHT
END:VTIMEZONE
BEGIN:VEVENT
UID:3611-e304968b2812073d12200528968bd1f1-principocket.com\n
DTSTART:20240328T000000
DTEND:20240401T000000
TRANSP:TRANSPARENT
IMAGE;VALUE=URI;DISPLAY=;FMTTYPE=image/png:https://app.monacoplatform.
 com/uploads/c0/c0iDDtx2-1.jpg
STATUS:CONFIRMED
SUMMARY:Theatre - "Algorithme"
DESCRIPTION:From Thursday 28 to Saturday 30 March at 8 pm\, and Sunday
  31 March 2024 at 4.30 pm\, Théâtre des Muses\n\nThis is the story o
 f Max\, your typical content and fulfilled thirtysomething\, and also 
 something of a technology addict. Our heroine finds herself thrust int
 o an experience bordering on fantasy. Yet her story could just as easi
 ly be ours... Or at least\, those of us incapable of going five minute
 s without staring at a screen. The actor's talented performance combin
 es with some impressive technical prowess to create the feeling of a w
 aking dream\, holding the audience spellbound from start to finish.\n\
 n https://www.principocket.com/en/event/e304968b2812073d12200528968bd1
 f1/theatre-algorithme
LOCATION:45\, boulevard du Jardin Exotique
URL:https://www.principocket.com/event/e304968b2812073d12200528968bd1f
 1/3611
DTSTAMP:20260420T230815Z
CREATED:20240329T154131Z
LAST-MODIFIED:20240329T154131Z
X-MICROSOFT-CDO-ALLDAYEVENT:TRUE
END:VEVENT
END:VCALENDAR
