BEGIN:VCALENDAR
VERSION:2.0
PRODID:-//Microsoft Corporation//Outlook 16.0 MIMEDIR//FR
CALSCALE:GREGORIAN
METHOD:PUBLISH
X-WR-TIMEZONE:Europe/Monaco
X-MS-OLK-FORCEINSPECTOROPEN:"TRUE"
BEGIN:VTIMEZONE
TZID:Europe/Monaco
BEGIN:STANDARD
DTSTART:20241027T010000
TZOFFSETTO:+0100
TZOFFSETFROM:+0200
RRULE:FREQ=YEARLY;BYMONTH=11;BYDAY=1SU
END:STANDARD
BEGIN:DAYLIGHT
DTSTART:20240331T010000
TZOFFSETTO:+0200
TZOFFSETFROM:+0100
RRULE:FREQ=YEARLY;BYMONTH=3;BYDAY=2SU
END:DAYLIGHT
END:VTIMEZONE
BEGIN:VEVENT
UID:3610-94a9953cf8986d6d372f6f4748a1a0f6-principocket.com\n
DTSTART:20240323T000000
DTEND:20240325T000000
TRANSP:TRANSPARENT
IMAGE;VALUE=URI;DISPLAY=;FMTTYPE=image/png:https://app.monacoplatform.
 com/uploads/a2/a22cwZoVWC.jpg
STATUS:CONFIRMED
SUMMARY:Theatre - "La Pirate qui a peur de l’eau"
DESCRIPTION:Saturday 23 March at 2.30 pm and Sunday 24 March 2024 at 2
 .15 pm\, Théâtre des Muses\n\nA pirate adventure for all ages\, an e
 xploration not just of the seas\, but of our fears too. Meet Océane\,
  daughter of none other than Redbeard\, bloodthirsty pirate and scourg
 e of the oceans. It is her duty to follow in her father's footsteps an
 d succeed him as captain. But there's just one problem: she can't swim
 . In fact\, she's scared stiff of the water. How will she tell him? Fo
 rtunately\, she can count on the help of her winged companion Bako\, b
 ut will they succeed? All hands on deck!\n\n https://www.principocket.
 com/en/event/94a9953cf8986d6d372f6f4748a1a0f6/theatre-la-pirate-qui-a-
 peur-de-l-eau
LOCATION:45\, boulevard du Jardin Exotique
URL:https://www.principocket.com/event/94a9953cf8986d6d372f6f4748a1a0f
 6/3610
DTSTAMP:20260420T214315Z
CREATED:20240322T155310Z
LAST-MODIFIED:20240322T155310Z
X-MICROSOFT-CDO-ALLDAYEVENT:TRUE
END:VEVENT
END:VCALENDAR
