BEGIN:VCALENDAR
VERSION:2.0
PRODID:-//Microsoft Corporation//Outlook 16.0 MIMEDIR//FR
CALSCALE:GREGORIAN
METHOD:PUBLISH
X-WR-TIMEZONE:Europe/Monaco
X-MS-OLK-FORCEINSPECTOROPEN:"TRUE"
BEGIN:VTIMEZONE
TZID:Europe/Monaco
BEGIN:STANDARD
DTSTART:20241027T010000
TZOFFSETTO:+0100
TZOFFSETFROM:+0200
RRULE:FREQ=YEARLY;BYMONTH=11;BYDAY=1SU
END:STANDARD
BEGIN:DAYLIGHT
DTSTART:20240331T010000
TZOFFSETTO:+0200
TZOFFSETFROM:+0100
RRULE:FREQ=YEARLY;BYMONTH=3;BYDAY=2SU
END:DAYLIGHT
END:VTIMEZONE
BEGIN:VEVENT
UID:3609-c47cf8161b69a127fa64d6990a4ad811-principocket.com\n
DTSTART:20240321T000000
DTEND:20240325T000000
TRANSP:TRANSPARENT
IMAGE;VALUE=URI;DISPLAY=;FMTTYPE=image/png:https://app.monacoplatform.
 com/uploads/8J/8JBBoE1NLF.jpg
STATUS:CONFIRMED
SUMMARY:Theatre - "On the line"
DESCRIPTION:Thursday 21 and Friday 22\, 8 pm\, saturday 23\, 6.15 pm a
 nd 8 pm and Sunday 24 March 2024 at 4.30 pm\, Théâtre des Muses\n\nA
  simple wrong number turns a domestic incident into an incredible quir
 k of fate. He is instantly enchanted by his invisible caller. She is a
 ttracted to his charming voice and sense of humour. And so they will b
 oth keep calling\, hoping\, fantasising\, clinging to this phone affai
 r as if it were their last chance at love. But can their carefully cra
 fted world and the images they have created of themselves withstand th
 e collision with reality? How long can you love someone you can't see\
 , and who can't see you?\n\n https://www.principocket.com/en/event/c47
 cf8161b69a127fa64d6990a4ad811/theatre-on-the-line
LOCATION:45\, boulevard du Jardin Exotique
URL:https://www.principocket.com/event/c47cf8161b69a127fa64d6990a4ad81
 1/3609
DTSTAMP:20260420T184238Z
CREATED:20240322T155310Z
LAST-MODIFIED:20240322T155310Z
X-MICROSOFT-CDO-ALLDAYEVENT:TRUE
END:VEVENT
END:VCALENDAR
