BEGIN:VCALENDAR
VERSION:2.0
PRODID:-//Microsoft Corporation//Outlook 16.0 MIMEDIR//FR
CALSCALE:GREGORIAN
METHOD:PUBLISH
X-WR-TIMEZONE:Europe/Monaco
X-MS-OLK-FORCEINSPECTOROPEN:"TRUE"
BEGIN:VTIMEZONE
TZID:Europe/Monaco
BEGIN:STANDARD
DTSTART:20241027T010000
TZOFFSETTO:+0100
TZOFFSETFROM:+0200
RRULE:FREQ=YEARLY;BYMONTH=11;BYDAY=1SU
END:STANDARD
BEGIN:DAYLIGHT
DTSTART:20240331T010000
TZOFFSETTO:+0200
TZOFFSETFROM:+0100
RRULE:FREQ=YEARLY;BYMONTH=3;BYDAY=2SU
END:DAYLIGHT
END:VTIMEZONE
BEGIN:VEVENT
UID:3500-969249178025493ea0ed70915e04f5d3-principocket.com\n
DTSTART:20240709T200000
DTEND:20240709T200000
TRANSP:TRANSPARENT
IMAGE;VALUE=URI;DISPLAY=;FMTTYPE=image/png:https://app.monacoplatform.
 com/uploads/At/AtwqagF5nd.jpg
STATUS:CONFIRMED
SUMMARY:Concert - "Zucchero"
DESCRIPTION:Tuesday 9 July 2024\, at 8 pm\, Grimaldi Forum Monaco\n\nZ
 ucchero - real name Adelmo Fornaciari - is a rock blues icon in Italy\
 , with over 60 million records sold. He made musical history as the fi
 rst Western artist to perform at the Kremlin after the fall of the Ber
 lin Wall. In 1992\, with Luciano Pavarotti\, he founded the "Pavarotti
  & Friends" charity gala\, paving the way for annual concerts until 20
 03. He has performed on five continents\, 69 states and 650 cities\, t
 aking part in major events such as Woodstock\, the 46664 concerts for 
 Nelson Mandela\, and the Freddie Mercury tribute.\n\n https://www.prin
 cipocket.com/en/event/969249178025493ea0ed70915e04f5d3/concert-zuccher
 o
LOCATION:10\, avenue Princesse Grace
URL:https://www.principocket.com/event/969249178025493ea0ed70915e04f5d
 3/3500
DTSTAMP:20260421T073533Z
CREATED:20240703T132108Z
LAST-MODIFIED:20240703T132108Z
END:VEVENT
END:VCALENDAR
