BEGIN:VCALENDAR
VERSION:2.0
PRODID:-//Microsoft Corporation//Outlook 16.0 MIMEDIR//FR
CALSCALE:GREGORIAN
METHOD:PUBLISH
X-WR-TIMEZONE:Europe/Monaco
X-MS-OLK-FORCEINSPECTOROPEN:"TRUE"
BEGIN:VTIMEZONE
TZID:Europe/Monaco
BEGIN:STANDARD
DTSTART:20231029T010000
TZOFFSETTO:+0100
TZOFFSETFROM:+0200
RRULE:FREQ=YEARLY;BYMONTH=11;BYDAY=1SU
END:STANDARD
BEGIN:DAYLIGHT
DTSTART:20230326T010000
TZOFFSETTO:+0200
TZOFFSETFROM:+0100
RRULE:FREQ=YEARLY;BYMONTH=3;BYDAY=2SU
END:DAYLIGHT
END:VTIMEZONE
BEGIN:VEVENT
UID:3274-53b93c78e9cbb85a2e9e9f6f83998683-principocket.com\n
DTSTART:20231213T173000
DTEND:20231213T190000
TRANSP:TRANSPARENT
IMAGE;VALUE=URI;DISPLAY=;FMTTYPE=image/png:https://app.monacoplatform.
 com/uploads/qB/qB_xwJ-ZQp.jpg
STATUS:CONFIRMED
SUMMARY:Talk - "A Father's Eyes"
DESCRIPTION:Wednesday 13 December 2023\, from 5.30 pm to 7 pm\, Centre
  Hospitalier Princesse Grace\n\nHow does a man see his child? What doe
 s he imagine\, before his offspring is born\, with no choice but to re
 main an outside observer of the mother's pregnancy? And later\, how do
 es he "recognise" the child who has just emerged into the world? With 
 Pierre Péju\, philosopher\, novelist\, and essayist.\n\n https://www.
 principocket.com/en/event/53b93c78e9cbb85a2e9e9f6f83998683/talk-a-fath
 er-s-eyes
LOCATION:
URL:https://www.principocket.com/event/53b93c78e9cbb85a2e9e9f6f8399868
 3/3274
DTSTAMP:20260420T122338Z
CREATED:20231213T154842Z
LAST-MODIFIED:20231213T154842Z
END:VEVENT
END:VCALENDAR
