BEGIN:VCALENDAR
VERSION:2.0
PRODID:-//Microsoft Corporation//Outlook 16.0 MIMEDIR//FR
CALSCALE:GREGORIAN
METHOD:PUBLISH
X-WR-TIMEZONE:Europe/Monaco
X-MS-OLK-FORCEINSPECTOROPEN:"TRUE"
BEGIN:VTIMEZONE
TZID:Europe/Monaco
BEGIN:STANDARD
DTSTART:20231029T010000
TZOFFSETTO:+0100
TZOFFSETFROM:+0200
RRULE:FREQ=YEARLY;BYMONTH=11;BYDAY=1SU
END:STANDARD
BEGIN:DAYLIGHT
DTSTART:20230326T010000
TZOFFSETTO:+0200
TZOFFSETFROM:+0100
RRULE:FREQ=YEARLY;BYMONTH=3;BYDAY=2SU
END:DAYLIGHT
END:VTIMEZONE
BEGIN:VEVENT
UID:2221-353eab69fa1689f5a3bbb6f5c7ace910-principocket.com\n
DTSTART:20230607T140000
DTEND:20230607T180000
TRANSP:TRANSPARENT
IMAGE;VALUE=URI;DISPLAY=;FMTTYPE=image/png:https://app.monacoplatform.
 com/uploads/kP/kP-l8_Cw_x.jpg
STATUS:CONFIRMED
SUMMARY:Activities - "6th Splash Party"
DESCRIPTION:Wednesday 7 June 2023\, from 2 pm to 6 pm\, Stade Nautique
  Rainier III\n\nYoungsters will be thrilled to learn that the Splash P
 arty is back again this year at the Stade Nautique Rainier III\, where
  they can enjoy the swimming pool and 5 metre diving board\, as well a
 s giant inflatable structures (including a slide)\, with a DJ providin
 g the musical accompaniment and free (non-alcoholic) drinks included i
 n the admission price. As always\, the giant pool party will mark the 
 end of the school year and the start of the summer holidays!\n\n https
 ://www.principocket.com/en/event/353eab69fa1689f5a3bbb6f5c7ace910/acti
 vities-6th-splash-party
LOCATION:Route de la Piscine
URL:https://www.principocket.com/event/353eab69fa1689f5a3bbb6f5c7ace91
 0/2221
DTSTAMP:20260422T104251Z
CREATED:20230607T153816Z
LAST-MODIFIED:20230607T153816Z
END:VEVENT
END:VCALENDAR
