BEGIN:VCALENDAR
VERSION:2.0
PRODID:-//Microsoft Corporation//Outlook 16.0 MIMEDIR//FR
CALSCALE:GREGORIAN
METHOD:PUBLISH
X-WR-TIMEZONE:Europe/Monaco
X-MS-OLK-FORCEINSPECTOROPEN:"TRUE"
BEGIN:VTIMEZONE
TZID:Europe/Monaco
BEGIN:STANDARD
DTSTART:20231029T010000
TZOFFSETTO:+0100
TZOFFSETFROM:+0200
RRULE:FREQ=YEARLY;BYMONTH=11;BYDAY=1SU
END:STANDARD
BEGIN:DAYLIGHT
DTSTART:20230326T010000
TZOFFSETTO:+0200
TZOFFSETFROM:+0100
RRULE:FREQ=YEARLY;BYMONTH=3;BYDAY=2SU
END:DAYLIGHT
END:VTIMEZONE
BEGIN:VEVENT
UID:2218-addf9974b4f170b4e1effbf19e502f79-principocket.com\n
DTSTART:20230511T121500
DTEND:20230511T143000
TRANSP:TRANSPARENT
IMAGE;VALUE=URI;DISPLAY=;FMTTYPE=image/png:https://app.monacoplatform.
 com/uploads/-f/-fJUREX4u4.jpeg
STATUS:CONFIRMED
SUMMARY:"Les jeudis de l'Agora"
DESCRIPTION:Jeudi 11 mai 2023\, de 12h15 à 14h30\, Agora - Maison Dio
 césaine\n\n\n\n https://www.principocket.com/en/event/addf9974b4f170b
 4e1effbf19e502f79/les-jeudis-de-l-agora
LOCATION:18\, rue Bellevue
URL:https://www.principocket.com/event/addf9974b4f170b4e1effbf19e502f7
 9/2218
DTSTAMP:20260420T093441Z
CREATED:20230511T101312Z
LAST-MODIFIED:20230511T101312Z
END:VEVENT
END:VCALENDAR
