BEGIN:VCALENDAR
VERSION:2.0
PRODID:-//Microsoft Corporation//Outlook 16.0 MIMEDIR//FR
CALSCALE:GREGORIAN
METHOD:PUBLISH
X-WR-TIMEZONE:Europe/Monaco
X-MS-OLK-FORCEINSPECTOROPEN:"TRUE"
BEGIN:VTIMEZONE
TZID:Europe/Monaco
BEGIN:STANDARD
DTSTART:20231029T010000
TZOFFSETTO:+0100
TZOFFSETFROM:+0200
RRULE:FREQ=YEARLY;BYMONTH=11;BYDAY=1SU
END:STANDARD
BEGIN:DAYLIGHT
DTSTART:20230326T010000
TZOFFSETTO:+0200
TZOFFSETFROM:+0100
RRULE:FREQ=YEARLY;BYMONTH=3;BYDAY=2SU
END:DAYLIGHT
END:VTIMEZONE
BEGIN:VEVENT
UID:2088-a44fffe305b75b3bc2608600f5df3940-principocket.com\n
DTSTART:20230629T000000
DTEND:20230702T235900
TRANSP:TRANSPARENT
IMAGE;VALUE=URI;DISPLAY=;FMTTYPE=image/png:https://app.monacoplatform.
 com/uploads/qF/qF85bk41_x.png
STATUS:CONFIRMED
SUMMARY:Jumping International de Monte-Carlo
DESCRIPTION:From Thursday 29 June to Saturday 1 July 2023 from to \, P
 ort Hercule de Monaco\n\n\n\n https://www.principocket.com/en/event/a4
 4fffe305b75b3bc2608600f5df3940/jumping-international-de-monte-carlo
LOCATION:
URL:https://www.principocket.com/event/a44fffe305b75b3bc2608600f5df394
 0/2088
DTSTAMP:20260420T140457Z
CREATED:20230619T102519Z
LAST-MODIFIED:20230619T102519Z
X-MICROSOFT-CDO-ALLDAYEVENT:TRUE
END:VEVENT
END:VCALENDAR
