BEGIN:VCALENDAR
VERSION:2.0
PRODID:-//Microsoft Corporation//Outlook 16.0 MIMEDIR//FR
CALSCALE:GREGORIAN
METHOD:PUBLISH
X-WR-TIMEZONE:Europe/Monaco
X-MS-OLK-FORCEINSPECTOROPEN:"TRUE"
BEGIN:VTIMEZONE
TZID:Europe/Monaco
BEGIN:STANDARD
DTSTART:20231029T010000
TZOFFSETTO:+0100
TZOFFSETFROM:+0200
RRULE:FREQ=YEARLY;BYMONTH=11;BYDAY=1SU
END:STANDARD
BEGIN:DAYLIGHT
DTSTART:20230326T010000
TZOFFSETTO:+0200
TZOFFSETFROM:+0100
RRULE:FREQ=YEARLY;BYMONTH=3;BYDAY=2SU
END:DAYLIGHT
END:VTIMEZONE
BEGIN:VEVENT
UID:2067-d4b81d722aba329f0eb3212b29a823ad-principocket.com\n
DTSTART:20230324T190000
DTEND:20230324T190000
TRANSP:TRANSPARENT
IMAGE;VALUE=URI;DISPLAY=;FMTTYPE=image/png:https://app.monacoplatform.
 com/uploads/t0/t0NTTMQyXw.jpg
STATUS:CONFIRMED
SUMMARY:Musical Theatre - "A Corps Perdus"
DESCRIPTION:Friday 24 March 2023\, at 7 pm\, Théâtre Princesse Grace
 \n\nFrom 20 March 2023\, several 2nd year students from the École Sup
 érieure d’Arts Plastiques - Pavillon Bosio (ESAP) will take up resi
 dence at the Théâtre Princesse Grace for a week to work on a new mus
 ical theatre project. At the end of the week\, the ESAP students\, in 
 collaboration with musicians from the Conservatoire de Nice\, will put
  on a musical and theatrical performance entitled "A corps perdus". Co
 ordinated by Damien Sorrentino and Dominique Drillot\, the performance
  will depict three explorers travelling through different worlds and a
 ttempting to talk to the creatures that inhabit them. Their quest? To 
 find a form of transcendence and achieve eternal life… Free admissio
 n.\n\n https://www.principocket.com/en/event/d4b81d722aba329f0eb3212b2
 9a823ad/musical-theatre-a-corps-perdus
LOCATION:12\, avenue d'Ostende
URL:https://www.principocket.com/event/d4b81d722aba329f0eb3212b29a823a
 d/2067
DTSTAMP:20260420T154314Z
CREATED:20230324T075338Z
LAST-MODIFIED:20230324T075338Z
END:VEVENT
END:VCALENDAR
