BEGIN:VCALENDAR
VERSION:2.0
PRODID:-//Microsoft Corporation//Outlook 16.0 MIMEDIR//FR
CALSCALE:GREGORIAN
METHOD:PUBLISH
X-WR-TIMEZONE:Europe/Monaco
X-MS-OLK-FORCEINSPECTOROPEN:"TRUE"
BEGIN:VTIMEZONE
TZID:Europe/Monaco
BEGIN:STANDARD
DTSTART:20241027T010000
TZOFFSETTO:+0100
TZOFFSETFROM:+0200
RRULE:FREQ=YEARLY;BYMONTH=11;BYDAY=1SU
END:STANDARD
BEGIN:DAYLIGHT
DTSTART:20240331T010000
TZOFFSETTO:+0200
TZOFFSETFROM:+0100
RRULE:FREQ=YEARLY;BYMONTH=3;BYDAY=2SU
END:DAYLIGHT
END:VTIMEZONE
BEGIN:VEVENT
UID:2066-a99e2bd487f8a717d4c210490eb5a8a8-principocket.com\n
DTSTART:20230320T090000
DTEND:20240401T180000
TRANSP:TRANSPARENT
IMAGE;VALUE=URI;DISPLAY=;FMTTYPE=image/png:https://app.monacoplatform.
 com/uploads/Cc/CcNCvJrRVr.jpg
STATUS:CONFIRMED
SUMMARY:Exhibition - "Albert I - Prehistorian Prince"
DESCRIPTION:From Monday 20 March 2023 to Sunday 31 March 2024\, from 9
  AM to 6 PM\, Museum of Prehistoric Anthropology\n\nDiscover a differe
 nt side of Prince Albert I! Meet the prehistorian prince\, the scienti
 st and explorer\, and trace the history of his archaeological expediti
 ons. From the Grimaldi caves to Spain\, from the founding of the Monac
 o Museum of Prehistoric Anthropology to the Paris Institute of Human P
 aleontology\, visitors will follow the incredible journey and archaeol
 ogical ideas of a fascinating\, and fascinated Prince.\n\n https://www
 .principocket.com/en/event/a99e2bd487f8a717d4c210490eb5a8a8/exhibition
 -albert-i-prehistorian-prince
LOCATION:56 bis\, boulevard du Jardin Exotique
URL:https://www.principocket.com/event/a99e2bd487f8a717d4c210490eb5a8a
 8/2066
DTSTAMP:20260420T201113Z
CREATED:20240329T154131Z
LAST-MODIFIED:20240329T154131Z
END:VEVENT
END:VCALENDAR
