BEGIN:VCALENDAR
VERSION:2.0
PRODID:-//Microsoft Corporation//Outlook 16.0 MIMEDIR//FR
CALSCALE:GREGORIAN
METHOD:PUBLISH
X-WR-TIMEZONE:Europe/Monaco
X-MS-OLK-FORCEINSPECTOROPEN:"TRUE"
BEGIN:VTIMEZONE
TZID:Europe/Monaco
BEGIN:STANDARD
DTSTART:20231029T010000
TZOFFSETTO:+0100
TZOFFSETFROM:+0200
RRULE:FREQ=YEARLY;BYMONTH=11;BYDAY=1SU
END:STANDARD
BEGIN:DAYLIGHT
DTSTART:20230326T010000
TZOFFSETTO:+0200
TZOFFSETFROM:+0100
RRULE:FREQ=YEARLY;BYMONTH=3;BYDAY=2SU
END:DAYLIGHT
END:VTIMEZONE
BEGIN:VEVENT
UID:2065-46cc367f6979c4d54067eb3ed8a61af5-principocket.com\n
DTSTART:20230317T100000
DTEND:20230410T180000
TRANSP:TRANSPARENT
IMAGE;VALUE=URI;DISPLAY=;FMTTYPE=image/png:https://app.monacoplatform.
 com/uploads/px/px4KWHg2pz.jpg
STATUS:CONFIRMED
SUMMARY:Exposition - "Iryna Zubenko - The energy of life"
DESCRIPTION:From Friday 17 March to Sunday 9 April 2023\, from 10 AM t
 o 6 PM\, Espace 22\n\nIryna Zubenko welcomes you to a brand new exhibi
 tion within ESPACE 22: The energy of life. "Creation and creativity ar
 e the result of internal energy\, which a person does not even suspect
 \, in the material world". Come discover and discuss a selection of in
 spiring paintings by the Ukrainian artist.\n\n https://www.principocke
 t.com/en/event/46cc367f6979c4d54067eb3ed8a61af5/exposition-iryna-zuben
 ko-the-energy-of-life
LOCATION:24 Bd d'Italie
URL:https://www.principocket.com/event/46cc367f6979c4d54067eb3ed8a61af
 5/2065
DTSTAMP:20260420T214440Z
CREATED:20230405T122220Z
LAST-MODIFIED:20230405T122220Z
END:VEVENT
END:VCALENDAR
