BEGIN:VCALENDAR
VERSION:2.0
PRODID:-//Microsoft Corporation//Outlook 16.0 MIMEDIR//FR
CALSCALE:GREGORIAN
METHOD:PUBLISH
X-WR-TIMEZONE:Europe/Monaco
X-MS-OLK-FORCEINSPECTOROPEN:"TRUE"
BEGIN:VTIMEZONE
TZID:Europe/Monaco
BEGIN:STANDARD
DTSTART:20231029T010000
TZOFFSETTO:+0100
TZOFFSETFROM:+0200
RRULE:FREQ=YEARLY;BYMONTH=11;BYDAY=1SU
END:STANDARD
BEGIN:DAYLIGHT
DTSTART:20230326T010000
TZOFFSETTO:+0200
TZOFFSETFROM:+0100
RRULE:FREQ=YEARLY;BYMONTH=3;BYDAY=2SU
END:DAYLIGHT
END:VTIMEZONE
BEGIN:VEVENT
UID:2064-d8e683d3a755670258e4d61ef36ed628-principocket.com\n
DTSTART:20230317T000000
DTEND:20230516T000000
TRANSP:TRANSPARENT
IMAGE;VALUE=URI;DISPLAY=;FMTTYPE=image/png:https://app.monacoplatform.
 com/uploads/T3/T3oRrXjy6o.jpg
STATUS:CONFIRMED
SUMMARY:Call for participation - Open mic event at Fort Antoine
DESCRIPTION:From Friday 17 March to Monday 15 May 2023\, Principality 
 of Monaco\n\nAs part of efforts to promote the Principality's young ta
 lent and strengthen ties between culture and youth\, an open mic event
  will be organised for and by young people on Tuesday 18 2023 at Fort 
 Antoine. The event is aimed mainly at younger people\, allowing those 
 aged 18 to 30 to reveal their musical\, acting\, or dancing talents on
  the magical stage of Fort Antoine. If you would like to take part\, s
 imply complete the online form before 15 May to sign up. The event is 
 also being organised mainly by young people\, specifically a committee
  of five 18 to 30 year-olds\, who are working with teams from the Depa
 rtment of Cultural Affairs. From the technical side to communication\,
  via logistics and artistic policy\, they will be overseeing every asp
 ect of the staging of what will hopefully be a hugely successful cultu
 ral event.\n\n https://www.principocket.com/en/event/d8e683d3a75567025
 8e4d61ef36ed628/call-for-participation-open-mic-event-at-fort-antoine
LOCATION:Monaco
URL:https://www.principocket.com/event/d8e683d3a755670258e4d61ef36ed62
 8/2064
DTSTAMP:20260420T231142Z
CREATED:20230515T101633Z
LAST-MODIFIED:20230515T101633Z
X-MICROSOFT-CDO-ALLDAYEVENT:TRUE
END:VEVENT
END:VCALENDAR
