BEGIN:VCALENDAR
VERSION:2.0
PRODID:-//Microsoft Corporation//Outlook 16.0 MIMEDIR//FR
CALSCALE:GREGORIAN
METHOD:PUBLISH
X-WR-TIMEZONE:Europe/Monaco
X-MS-OLK-FORCEINSPECTOROPEN:"TRUE"
BEGIN:VTIMEZONE
TZID:Europe/Monaco
BEGIN:STANDARD
DTSTART:20231029T010000
TZOFFSETTO:+0100
TZOFFSETFROM:+0200
RRULE:FREQ=YEARLY;BYMONTH=11;BYDAY=1SU
END:STANDARD
BEGIN:DAYLIGHT
DTSTART:20230326T010000
TZOFFSETTO:+0200
TZOFFSETFROM:+0100
RRULE:FREQ=YEARLY;BYMONTH=3;BYDAY=2SU
END:DAYLIGHT
END:VTIMEZONE
BEGIN:VEVENT
UID:2063-583395566f33abb773e7bd4034d1f96d-principocket.com\n
DTSTART:20230422T200000
DTEND:20230422T210000
TRANSP:TRANSPARENT
IMAGE;VALUE=URI;DISPLAY=;FMTTYPE=image/png:https://app.monacoplatform.
 com/uploads/09/09uXjrmSi-.jpeg
STATUS:CONFIRMED
SUMMARY:Conférence "Deux poumons, un seul coeur : accueillir ensemble
  la joie de Pâques"
DESCRIPTION:Samedi 22 avril 2023\, de 20h à 21h\, Agora - Maison Dioc
 ésaine\n\n\n\n https://www.principocket.com/en/event/583395566f33abb7
 73e7bd4034d1f96d/conference-deux-poumons-un-seul-coeur-accueillir-ense
 mble-la-joie-de-paques
LOCATION:18\, rue Bellevue
URL:https://www.principocket.com/event/583395566f33abb773e7bd4034d1f96
 d/2063
DTSTAMP:20260421T004737Z
CREATED:20230418T121710Z
LAST-MODIFIED:20230418T121710Z
END:VEVENT
END:VCALENDAR
