BEGIN:VCALENDAR
VERSION:2.0
PRODID:-//Microsoft Corporation//Outlook 16.0 MIMEDIR//FR
CALSCALE:GREGORIAN
METHOD:PUBLISH
X-WR-TIMEZONE:Europe/Monaco
X-MS-OLK-FORCEINSPECTOROPEN:"TRUE"
BEGIN:VTIMEZONE
TZID:Europe/Monaco
BEGIN:STANDARD
DTSTART:20231029T010000
TZOFFSETTO:+0100
TZOFFSETFROM:+0200
RRULE:FREQ=YEARLY;BYMONTH=11;BYDAY=1SU
END:STANDARD
BEGIN:DAYLIGHT
DTSTART:20230326T010000
TZOFFSETTO:+0200
TZOFFSETFROM:+0100
RRULE:FREQ=YEARLY;BYMONTH=3;BYDAY=2SU
END:DAYLIGHT
END:VTIMEZONE
BEGIN:VEVENT
UID:2060-39d42f9412b40fa80ef327e824e9f07d-principocket.com\n
DTSTART:20230421T090000
DTEND:20230421T170000
TRANSP:TRANSPARENT
IMAGE;VALUE=URI;DISPLAY=;FMTTYPE=image/png:https://app.monacoplatform.
 com/uploads/09/09uXjrmSi-.jpeg
STATUS:CONFIRMED
SUMMARY:Stage Iconographique
DESCRIPTION:Vendredi 21 avril 2023\, de 09h à 17h\, Agora - Maison Di
 océsaine\n\n\n\n https://www.principocket.com/en/event/39d42f9412b40f
 a80ef327e824e9f07d/stage-iconographique
LOCATION:18\, rue Bellevue
URL:https://www.principocket.com/event/39d42f9412b40fa80ef327e824e9f07
 d/2060
DTSTAMP:20260421T051414Z
CREATED:20230418T121710Z
LAST-MODIFIED:20230418T121710Z
END:VEVENT
END:VCALENDAR
