BEGIN:VCALENDAR
VERSION:2.0
PRODID:-//Microsoft Corporation//Outlook 16.0 MIMEDIR//FR
CALSCALE:GREGORIAN
METHOD:PUBLISH
X-WR-TIMEZONE:Europe/Monaco
X-MS-OLK-FORCEINSPECTOROPEN:"TRUE"
BEGIN:VTIMEZONE
TZID:Europe/Monaco
BEGIN:STANDARD
DTSTART:20241027T010000
TZOFFSETTO:+0100
TZOFFSETFROM:+0200
RRULE:FREQ=YEARLY;BYMONTH=11;BYDAY=1SU
END:STANDARD
BEGIN:DAYLIGHT
DTSTART:20240331T010000
TZOFFSETTO:+0200
TZOFFSETFROM:+0100
RRULE:FREQ=YEARLY;BYMONTH=3;BYDAY=2SU
END:DAYLIGHT
END:VTIMEZONE
BEGIN:VEVENT
UID:2058-4bf23fb809a359c9bd620a98577de39d-principocket.com\n
DTSTART:20240426T093000
DTEND:20240428T170000
TRANSP:TRANSPARENT
IMAGE;VALUE=URI;DISPLAY=;FMTTYPE=image/png:https://app.monacoplatform.
 com/uploads/YJ/YJDkhsJScG.jpeg
STATUS:CONFIRMED
SUMMARY:KERMESSE DE L'AMITIÉ 2024
DESCRIPTION:Du vendredi 26 au samedi 27 avril 2024\, de 09h30 à 17h -
  Eglise du Sacré-Cœur\n\n\n\n https://www.principocket.com/en/event/
 4bf23fb809a359c9bd620a98577de39d/kermesse-de-l-amitie-2024
LOCATION:14\, chemin de la Turbie
URL:https://www.principocket.com/event/4bf23fb809a359c9bd620a98577de39
 d/2058
DTSTAMP:20260421T095729Z
CREATED:20240426T114209Z
LAST-MODIFIED:20240426T114209Z
END:VEVENT
END:VCALENDAR
