BEGIN:VCALENDAR
VERSION:2.0
PRODID:-//Microsoft Corporation//Outlook 16.0 MIMEDIR//FR
CALSCALE:GREGORIAN
METHOD:PUBLISH
X-WR-TIMEZONE:Europe/Monaco
X-MS-OLK-FORCEINSPECTOROPEN:"TRUE"
BEGIN:VTIMEZONE
TZID:Europe/Monaco
BEGIN:STANDARD
DTSTART:20231029T010000
TZOFFSETTO:+0100
TZOFFSETFROM:+0200
RRULE:FREQ=YEARLY;BYMONTH=11;BYDAY=1SU
END:STANDARD
BEGIN:DAYLIGHT
DTSTART:20230326T010000
TZOFFSETTO:+0200
TZOFFSETFROM:+0100
RRULE:FREQ=YEARLY;BYMONTH=3;BYDAY=2SU
END:DAYLIGHT
END:VTIMEZONE
BEGIN:VEVENT
UID:2057-316e61f5b39649b8e83a232e6620fafd-principocket.com\n
DTSTART:20230403T193000
DTEND:20230403T210000
TRANSP:TRANSPARENT
IMAGE;VALUE=URI;DISPLAY=;FMTTYPE=image/png:https://app.monacoplatform.
 com/uploads/jz/jzTJRAeJ8c.jpeg
STATUS:CONFIRMED
SUMMARY:Concert Spirituel
DESCRIPTION:Lundi 3 avril 2023\, de 19h30 à 21h\, Cathédrale de Mona
 co\n\n\n\n https://www.principocket.com/en/event/316e61f5b39649b8e83a2
 32e6620fafd/concert-spirituel
LOCATION:4\, rue Colonel Bellando de Castro
URL:https://www.principocket.com/event/316e61f5b39649b8e83a232e6620faf
 d/2057
DTSTAMP:20260425T110452Z
CREATED:20230403T124203Z
LAST-MODIFIED:20230403T124203Z
END:VEVENT
END:VCALENDAR
