BEGIN:VCALENDAR
VERSION:2.0
PRODID:-//Microsoft Corporation//Outlook 16.0 MIMEDIR//FR
CALSCALE:GREGORIAN
METHOD:PUBLISH
X-WR-TIMEZONE:Europe/Monaco
X-MS-OLK-FORCEINSPECTOROPEN:"TRUE"
BEGIN:VTIMEZONE
TZID:Europe/Monaco
BEGIN:STANDARD
DTSTART:20231029T010000
TZOFFSETTO:+0100
TZOFFSETFROM:+0200
RRULE:FREQ=YEARLY;BYMONTH=11;BYDAY=1SU
END:STANDARD
BEGIN:DAYLIGHT
DTSTART:20230326T010000
TZOFFSETTO:+0200
TZOFFSETFROM:+0100
RRULE:FREQ=YEARLY;BYMONTH=3;BYDAY=2SU
END:DAYLIGHT
END:VTIMEZONE
BEGIN:VEVENT
UID:2056-af6b9e5ce0feb648bf96d9f225582760-principocket.com\n
DTSTART:20230707T000000
DTEND:20230708T235900
TRANSP:TRANSPARENT
IMAGE;VALUE=URI;DISPLAY=;FMTTYPE=image/png:https://app.monacoplatform.
 com/uploads/Hh/HhupbsshhA.png
STATUS:CONFIRMED
SUMMARY:Kendji Girac on stage in Monaco for the 3rd MC Summer Concert
DESCRIPTION:Friday 7 July 2023\, at \, Espace Léo Ferré\n\nThe singe
 r and guitarist\, Kendji Girac\, will perform on the stage of the Espa
 ce Léo Ferré\, on Friday\, July 7\, 2023\, for the third edition of 
 the Mc Summer Concert*\, aimed at young people in Monaco\, from 13 to 
 25 years old (Monegasques\, residents\, school children or students in
  the Principality)\n\n https://www.principocket.com/en/event/af6b9e5ce
 0feb648bf96d9f225582760/kendji-girac-on-stage-in-monaco-for-the-3rd-mc
 -summer-concert
LOCATION:25\, avenue Albert II
URL:https://www.principocket.com/event/af6b9e5ce0feb648bf96d9f22558276
 0/2056
DTSTAMP:20260425T125600Z
CREATED:20230320T160446Z
LAST-MODIFIED:20230320T160446Z
X-MICROSOFT-CDO-ALLDAYEVENT:TRUE
END:VEVENT
END:VCALENDAR
