BEGIN:VCALENDAR
VERSION:2.0
PRODID:-//Microsoft Corporation//Outlook 16.0 MIMEDIR//FR
CALSCALE:GREGORIAN
METHOD:PUBLISH
X-WR-TIMEZONE:Europe/Monaco
X-MS-OLK-FORCEINSPECTOROPEN:"TRUE"
BEGIN:VTIMEZONE
TZID:Europe/Monaco
BEGIN:STANDARD
DTSTART:20231029T010000
TZOFFSETTO:+0100
TZOFFSETFROM:+0200
RRULE:FREQ=YEARLY;BYMONTH=11;BYDAY=1SU
END:STANDARD
BEGIN:DAYLIGHT
DTSTART:20230326T010000
TZOFFSETTO:+0200
TZOFFSETFROM:+0100
RRULE:FREQ=YEARLY;BYMONTH=3;BYDAY=2SU
END:DAYLIGHT
END:VTIMEZONE
BEGIN:VEVENT
UID:2055-e80511b9da9634b66a72466a67a1ba29-principocket.com\n
DTSTART:20230915T000000
DTEND:20230918T000000
TRANSP:TRANSPARENT
IMAGE;VALUE=URI;DISPLAY=;FMTTYPE=image/png:https://app.monacoplatform.
 com/uploads/yO/yOIDYJ1fo8.jpg
STATUS:CONFIRMED
SUMMARY:Event - "Rallye Père-Fils"
DESCRIPTION:From Friday 15 to Sunday 17 September 2023\, Principality 
 of Monaco\n\nSince its first edition in 2012\, the Rallye Père-Fils
 ™ has become a must-attend event. No doubt for its original concept\
 , but also for the sincere approach that accompanies it as well as the
  attention to detail that has made our reputation for over 10 years. W
 ith the race starting and finishing in Monaco\, the teams can look for
 ward to a truly unforgettable experience in the Principality.\n\n http
 s://www.principocket.com/en/event/e80511b9da9634b66a72466a67a1ba29/eve
 nt-rallye-pere-fils
LOCATION:Monaco
URL:https://www.principocket.com/event/e80511b9da9634b66a72466a67a1ba2
 9/2055
DTSTAMP:20260425T144759Z
CREATED:20230915T144524Z
LAST-MODIFIED:20230915T144524Z
X-MICROSOFT-CDO-ALLDAYEVENT:TRUE
END:VEVENT
END:VCALENDAR
