BEGIN:VCALENDAR
VERSION:2.0
PRODID:-//Microsoft Corporation//Outlook 16.0 MIMEDIR//FR
CALSCALE:GREGORIAN
METHOD:PUBLISH
X-WR-TIMEZONE:Europe/Monaco
X-MS-OLK-FORCEINSPECTOROPEN:"TRUE"
BEGIN:VTIMEZONE
TZID:Europe/Monaco
BEGIN:STANDARD
DTSTART:20231029T010000
TZOFFSETTO:+0100
TZOFFSETFROM:+0200
RRULE:FREQ=YEARLY;BYMONTH=11;BYDAY=1SU
END:STANDARD
BEGIN:DAYLIGHT
DTSTART:20230326T010000
TZOFFSETTO:+0200
TZOFFSETFROM:+0100
RRULE:FREQ=YEARLY;BYMONTH=3;BYDAY=2SU
END:DAYLIGHT
END:VTIMEZONE
BEGIN:VEVENT
UID:2054-0c1522394d1cf5b7d93e0fdf16117012-principocket.com\n
DTSTART:20230125T193000
DTEND:20230620T193000
TRANSP:TRANSPARENT
IMAGE;VALUE=URI;DISPLAY=;FMTTYPE=image/png:https://app.monacoplatform.
 com/uploads/JJ/JJrwyiLLjv.jpeg
STATUS:CONFIRMED
SUMMARY:Parcours "TEMOIGNAGES"
DESCRIPTION:Du mercredi 25 janvier au lundi 19 juin 2023 de 19h30 à 1
 9h30\, Agora - Maison Diocésaine\n\n\n\n https://www.principocket.com
 /en/event/0c1522394d1cf5b7d93e0fdf16117012/parcours-temoignages
LOCATION:18\, rue Bellevue
URL:https://www.principocket.com/event/0c1522394d1cf5b7d93e0fdf1611701
 2/2054
DTSTAMP:20260425T162251Z
CREATED:20230619T065846Z
LAST-MODIFIED:20230619T065846Z
END:VEVENT
END:VCALENDAR
