BEGIN:VCALENDAR
VERSION:2.0
PRODID:-//Microsoft Corporation//Outlook 16.0 MIMEDIR//FR
CALSCALE:GREGORIAN
METHOD:PUBLISH
X-WR-TIMEZONE:Europe/Monaco
X-MS-OLK-FORCEINSPECTOROPEN:"TRUE"
BEGIN:VTIMEZONE
TZID:Europe/Monaco
BEGIN:STANDARD
DTSTART:20231029T010000
TZOFFSETTO:+0100
TZOFFSETFROM:+0200
RRULE:FREQ=YEARLY;BYMONTH=11;BYDAY=1SU
END:STANDARD
BEGIN:DAYLIGHT
DTSTART:20230326T010000
TZOFFSETTO:+0200
TZOFFSETFROM:+0100
RRULE:FREQ=YEARLY;BYMONTH=3;BYDAY=2SU
END:DAYLIGHT
END:VTIMEZONE
BEGIN:VEVENT
UID:1758-9eee6664dd82367b5fa7c4958f616ed4-principocket.com\n
DTSTART:20230418T200000
DTEND:20230418T200000
TRANSP:TRANSPARENT
IMAGE;VALUE=URI;DISPLAY=;FMTTYPE=image/png:https://app.monacoplatform.
 com/uploads/oZ/oZhdi4ebND.jpg
STATUS:CONFIRMED
SUMMARY:Theatre - "L'Embarras du Choix"
DESCRIPTION:Tuesday 18 April 2023\, at 8 pm\, Théâtre Princesse Grac
 e\n\nAs he turns thirty-five\, Max realises he has let life pass him b
 y. Paralysed by fear of making the wrong decision\, he asks for advice
  from his friends: the audience. In this interactive comedy\, it is yo
 u who will decide how the story unfolds\, as you influence Max's choic
 es\, one after another. Written by Sébastien Azzopardi and Sacha Dani
 no\, directed by Sébastien Azzopardi\, and starring Sébastien Azzo
 pardi\, Margaux Maillet or Julie Desbrueres\, Patrice Latronche or Thi
 erry Lanckriet\, Charlotte Biziak or Amaya Carrete\, and Augustin de M
 onts or Delphin Lacroix.\n\n https://www.principocket.com/en/event/9ee
 e6664dd82367b5fa7c4958f616ed4/theatre-l-embarras-du-choix
LOCATION:12\, avenue d'Ostende
URL:https://www.principocket.com/event/9eee6664dd82367b5fa7c4958f616ed
 4/1758
DTSTAMP:20260421T081530Z
CREATED:20230418T121752Z
LAST-MODIFIED:20230418T121752Z
END:VEVENT
END:VCALENDAR
