BEGIN:VCALENDAR
VERSION:2.0
PRODID:-//Microsoft Corporation//Outlook 16.0 MIMEDIR//FR
CALSCALE:GREGORIAN
METHOD:PUBLISH
X-WR-TIMEZONE:Europe/Monaco
X-MS-OLK-FORCEINSPECTOROPEN:"TRUE"
BEGIN:VTIMEZONE
TZID:Europe/Monaco
BEGIN:STANDARD
DTSTART:20231029T010000
TZOFFSETTO:+0100
TZOFFSETFROM:+0200
RRULE:FREQ=YEARLY;BYMONTH=11;BYDAY=1SU
END:STANDARD
BEGIN:DAYLIGHT
DTSTART:20230326T010000
TZOFFSETTO:+0200
TZOFFSETFROM:+0100
RRULE:FREQ=YEARLY;BYMONTH=3;BYDAY=2SU
END:DAYLIGHT
END:VTIMEZONE
BEGIN:VEVENT
UID:1752-2ee8088175093561ec23be4e0042eb84-principocket.com\n
DTSTART:20230318T200000
DTEND:20230318T200000
TRANSP:TRANSPARENT
IMAGE;VALUE=URI;DISPLAY=;FMTTYPE=image/png:https://app.monacoplatform.
 com/uploads/6D/6Dkv-BOoht.jpg
STATUS:CONFIRMED
SUMMARY:Show - "Multi-Artist Stand-Up Comedy"
DESCRIPTION:Saturday 18 March 2023\, at 8 pm\, Grimaldi Forum Monaco\n
 \nLes Sérénissimes de l’Humour - A multi-artist line-up including 
 five breakthrough talents\, each performing a 20 minute set. NInety mi
 nutes of guaranteed laughs. What more could you want? Under the High P
 atronage of H.S.H. Prince Albert II. Organised by Monaco Live Producti
 ons ein partnership with Rire & Chansons.\n\n https://www.principocket
 .com/en/event/2ee8088175093561ec23be4e0042eb84/show-multi-artist-stand
 -up-comedy
LOCATION:10\, avenue Princesse Grace
URL:https://www.principocket.com/event/2ee8088175093561ec23be4e0042eb8
 4/1752
DTSTAMP:20260422T104444Z
CREATED:20230315T164548Z
LAST-MODIFIED:20230315T164548Z
END:VEVENT
END:VCALENDAR
