BEGIN:VCALENDAR
VERSION:2.0
PRODID:-//Microsoft Corporation//Outlook 16.0 MIMEDIR//FR
CALSCALE:GREGORIAN
METHOD:PUBLISH
X-WR-TIMEZONE:Europe/Monaco
X-MS-OLK-FORCEINSPECTOROPEN:"TRUE"
BEGIN:VTIMEZONE
TZID:Europe/Monaco
BEGIN:STANDARD
DTSTART:20231029T010000
TZOFFSETTO:+0100
TZOFFSETFROM:+0200
RRULE:FREQ=YEARLY;BYMONTH=11;BYDAY=1SU
END:STANDARD
BEGIN:DAYLIGHT
DTSTART:20230326T010000
TZOFFSETTO:+0200
TZOFFSETFROM:+0100
RRULE:FREQ=YEARLY;BYMONTH=3;BYDAY=2SU
END:DAYLIGHT
END:VTIMEZONE
BEGIN:VEVENT
UID:1700-ddfbaa01770f045c40bd3aa8c971f260-principocket.com\n
DTSTART:20230323T200000
DTEND:20230323T200000
TRANSP:TRANSPARENT
IMAGE;VALUE=URI;DISPLAY=;FMTTYPE=image/png:https://app.monacoplatform.
 com/uploads/VZ/VZkfzefyF7.jpg
STATUS:CONFIRMED
SUMMARY:Opéra de Monte-Carlo - "La traviata"
DESCRIPTION:Thursday 23 March 2023\, at 8 pm\, Opéra de Monte-Carlo -
  Salle Garnier\n\nOpéra de Monte-Carlo\, 2023 Season - La traviata by
  Verdi. Opera\, musical direction by Massimo Zanetti\, stage direction
  by Jean-Louis Grinda.\n\n https://www.principocket.com/en/event/ddfba
 a01770f045c40bd3aa8c971f260/opera-de-monte-carlo-la-traviata
LOCATION:Place du Casino
URL:https://www.principocket.com/event/ddfbaa01770f045c40bd3aa8c971f26
 0/1700
DTSTAMP:20260420T134843Z
CREATED:20230323T115504Z
LAST-MODIFIED:20230323T115504Z
END:VEVENT
END:VCALENDAR
