BEGIN:VCALENDAR
VERSION:2.0
PRODID:-//Microsoft Corporation//Outlook 16.0 MIMEDIR//FR
CALSCALE:GREGORIAN
METHOD:PUBLISH
X-WR-TIMEZONE:Europe/Monaco
X-MS-OLK-FORCEINSPECTOROPEN:"TRUE"
BEGIN:VTIMEZONE
TZID:Europe/Monaco
BEGIN:STANDARD
DTSTART:20231029T010000
TZOFFSETTO:+0100
TZOFFSETFROM:+0200
RRULE:FREQ=YEARLY;BYMONTH=11;BYDAY=1SU
END:STANDARD
BEGIN:DAYLIGHT
DTSTART:20230326T010000
TZOFFSETTO:+0200
TZOFFSETFROM:+0100
RRULE:FREQ=YEARLY;BYMONTH=3;BYDAY=2SU
END:DAYLIGHT
END:VTIMEZONE
BEGIN:VEVENT
UID:1699-17316982c499b854952500ad1a4f0643-principocket.com\n
DTSTART:20230321T200000
DTEND:20230321T200000
TRANSP:TRANSPARENT
IMAGE;VALUE=URI;DISPLAY=;FMTTYPE=image/png:https://app.monacoplatform.
 com/uploads/pe/pe4fAvz3u2.jpg
STATUS:CONFIRMED
SUMMARY:Opéra de Monte-Carlo - "La traviata"
DESCRIPTION:Tuesday 21 March 2023\, at 8 pm\, Opéra de Monte-Carlo - 
 Salle Garnier\n\nOpéra de Monte-Carlo\, 2023 Season - La traviata by 
 Verdi. Opera\, musical direction by Massimo Zanetti\, stage direction 
 by Jean-Louis Grinda.\n\n https://www.principocket.com/en/event/173169
 82c499b854952500ad1a4f0643/opera-de-monte-carlo-la-traviata
LOCATION:Place du Casino
URL:https://www.principocket.com/event/17316982c499b854952500ad1a4f064
 3/1699
DTSTAMP:20260420T122651Z
CREATED:20230315T164548Z
LAST-MODIFIED:20230315T164548Z
END:VEVENT
END:VCALENDAR
