BEGIN:VCALENDAR
VERSION:2.0
PRODID:-//Microsoft Corporation//Outlook 16.0 MIMEDIR//FR
CALSCALE:GREGORIAN
METHOD:PUBLISH
X-WR-TIMEZONE:Europe/Monaco
X-MS-OLK-FORCEINSPECTOROPEN:"TRUE"
BEGIN:VTIMEZONE
TZID:Europe/Monaco
BEGIN:STANDARD
DTSTART:20231029T010000
TZOFFSETTO:+0100
TZOFFSETFROM:+0200
RRULE:FREQ=YEARLY;BYMONTH=11;BYDAY=1SU
END:STANDARD
BEGIN:DAYLIGHT
DTSTART:20230326T010000
TZOFFSETTO:+0200
TZOFFSETFROM:+0100
RRULE:FREQ=YEARLY;BYMONTH=3;BYDAY=2SU
END:DAYLIGHT
END:VTIMEZONE
BEGIN:VEVENT
UID:1698-f858e8cdbfed915b004c184e9378cfa0-principocket.com\n
DTSTART:20230321T200000
DTEND:20230321T200000
TRANSP:TRANSPARENT
IMAGE;VALUE=URI;DISPLAY=;FMTTYPE=image/png:https://app.monacoplatform.
 com/uploads/BJ/BJGD-b-iCk.jpg
STATUS:CONFIRMED
SUMMARY:The Art of the Cinema - "Anatomy of a Relationship"
DESCRIPTION:Tuesday 21 March 2023\, at 8 pm\, Théâtre des Variétés
 \n\nMovie Tuesdays - Anatomy of a Relationship by Luc Moullet (1976). 
 Funny yet tragic\, banal yet extraordinary\, this docu-fiction is a re
 freshingly liberated look at sexuality. Organised by the Audiovisual I
 nstitute of Monaco.\n\n https://www.principocket.com/en/event/f858e8cd
 bfed915b004c184e9378cfa0/the-art-of-the-cinema-anatomy-of-a-relationsh
 ip
LOCATION:1\, boulevard Albert Ier
URL:https://www.principocket.com/event/f858e8cdbfed915b004c184e9378cfa
 0/1698
DTSTAMP:20260420T153526Z
CREATED:20230315T164548Z
LAST-MODIFIED:20230315T164548Z
END:VEVENT
END:VCALENDAR
