BEGIN:VCALENDAR
VERSION:2.0
PRODID:-//Microsoft Corporation//Outlook 16.0 MIMEDIR//FR
CALSCALE:GREGORIAN
METHOD:PUBLISH
X-WR-TIMEZONE:Europe/Monaco
X-MS-OLK-FORCEINSPECTOROPEN:"TRUE"
BEGIN:VTIMEZONE
TZID:Europe/Monaco
BEGIN:STANDARD
DTSTART:20231029T010000
TZOFFSETTO:+0100
TZOFFSETFROM:+0200
RRULE:FREQ=YEARLY;BYMONTH=11;BYDAY=1SU
END:STANDARD
BEGIN:DAYLIGHT
DTSTART:20230326T010000
TZOFFSETTO:+0200
TZOFFSETFROM:+0100
RRULE:FREQ=YEARLY;BYMONTH=3;BYDAY=2SU
END:DAYLIGHT
END:VTIMEZONE
BEGIN:VEVENT
UID:1697-eed7f0cd370a9fc740fc867a05f9051f-principocket.com\n
DTSTART:20230321T200000
DTEND:20230321T200000
TRANSP:TRANSPARENT
IMAGE;VALUE=URI;DISPLAY=;FMTTYPE=image/png:https://app.monacoplatform.
 com/uploads/Gl/Gl1VQ5qWBt.jpg
STATUS:CONFIRMED
SUMMARY:Theatre - "Une Situation Délicate"
DESCRIPTION:Tuesday 21 March 2023\, at 8 pm\, Grimaldi Forum Monaco\n\
 nNicolas is deeply in love with Julie and wants to marry her. Touched 
 by his earnest love for her\, she decides to break things off with her
  lover\, Philippe\, twenty years her senior and married to Marianne. S
 he must meet him one last time at his home\, and tells Nicolas she is 
 going to her parents'. He secretly follows her. A series of misunderst
 andings and mistakes ensues! Based on the play "Relatively Speaking' b
 y Alan Ayckbourn\, directed by Ladislas Chollat\, adapted in French by
  Gérald Sibleyras\, and starring Gérard Darmon\, Clotilde Courau\,
  Max Boublil and Élodie Navarre.\n\n https://www.principocket.com/en
 /event/eed7f0cd370a9fc740fc867a05f9051f/theatre-une-situation-delicate
LOCATION:10\, avenue Princesse Grace
URL:https://www.principocket.com/event/eed7f0cd370a9fc740fc867a05f9051
 f/1697
DTSTAMP:20260424T123513Z
CREATED:20230315T164548Z
LAST-MODIFIED:20230315T164548Z
END:VEVENT
END:VCALENDAR
