BEGIN:VCALENDAR
VERSION:2.0
PRODID:-//Microsoft Corporation//Outlook 16.0 MIMEDIR//FR
CALSCALE:GREGORIAN
METHOD:PUBLISH
X-WR-TIMEZONE:Europe/Monaco
X-MS-OLK-FORCEINSPECTOROPEN:"TRUE"
BEGIN:VTIMEZONE
TZID:Europe/Monaco
BEGIN:STANDARD
DTSTART:20231029T010000
TZOFFSETTO:+0100
TZOFFSETFROM:+0200
RRULE:FREQ=YEARLY;BYMONTH=11;BYDAY=1SU
END:STANDARD
BEGIN:DAYLIGHT
DTSTART:20230326T010000
TZOFFSETTO:+0200
TZOFFSETFROM:+0100
RRULE:FREQ=YEARLY;BYMONTH=3;BYDAY=2SU
END:DAYLIGHT
END:VTIMEZONE
BEGIN:VEVENT
UID:1696-146b465d77971c009f5f257aea643bbc-principocket.com\n
DTSTART:20230320T190000
DTEND:20230320T190000
TRANSP:TRANSPARENT
IMAGE;VALUE=URI;DISPLAY=;FMTTYPE=image/png:https://app.monacoplatform.
 com/uploads/9d/9dZIl_G8TW.jpg
STATUS:CONFIRMED
SUMMARY:Opéra de Monte-Carlo - "Le nozze di Figaro"
DESCRIPTION:Monday 20 March 2023\, at 7 pm\, Opéra de Monte-Carlo - S
 alle Garnier\n\nOpéra de Monte-Carlo\, 2023 Season - Le nozze di Figa
 ro by Mozart. Opera\, musical direction by Philippe Jordan\, stage dir
 ection by Katharine Strommer and Lisa Padouvas.\n\n https://www.princi
 pocket.com/en/event/146b465d77971c009f5f257aea643bbc/opera-de-monte-ca
 rlo-le-nozze-di-figaro
LOCATION:Place du Casino
URL:https://www.principocket.com/event/146b465d77971c009f5f257aea643bb
 c/1696
DTSTAMP:20260424T123728Z
CREATED:20230315T164548Z
LAST-MODIFIED:20230315T164548Z
END:VEVENT
END:VCALENDAR
