BEGIN:VCALENDAR
VERSION:2.0
PRODID:-//Microsoft Corporation//Outlook 16.0 MIMEDIR//FR
CALSCALE:GREGORIAN
METHOD:PUBLISH
X-WR-TIMEZONE:Europe/Monaco
X-MS-OLK-FORCEINSPECTOROPEN:"TRUE"
BEGIN:VTIMEZONE
TZID:Europe/Monaco
BEGIN:STANDARD
DTSTART:20231029T010000
TZOFFSETTO:+0100
TZOFFSETFROM:+0200
RRULE:FREQ=YEARLY;BYMONTH=11;BYDAY=1SU
END:STANDARD
BEGIN:DAYLIGHT
DTSTART:20230326T010000
TZOFFSETTO:+0200
TZOFFSETFROM:+0100
RRULE:FREQ=YEARLY;BYMONTH=3;BYDAY=2SU
END:DAYLIGHT
END:VTIMEZONE
BEGIN:VEVENT
UID:1695-7ef659bbbbb191a99b3fe4792d896866-principocket.com\n
DTSTART:20230319T150000
DTEND:20230319T150000
TRANSP:TRANSPARENT
IMAGE;VALUE=URI;DISPLAY=;FMTTYPE=image/png:https://app.monacoplatform.
 com/uploads/Ol/Olai85qUy0.jpg
STATUS:CONFIRMED
SUMMARY:Opéra de Monte-Carlo - "La traviata"
DESCRIPTION:Sunday 19 March 2023\, at 3 pm\, Opéra de Monte-Carlo - S
 alle Garnier\n\nOpéra de Monte-Carlo\, 2023 Season - La traviata by V
 erdi. Opera\, musical direction by Massimo Zanetti\, stage direction b
 y Jean-Louis Grinda.\n\n https://www.principocket.com/en/event/7ef659b
 bbbb191a99b3fe4792d896866/opera-de-monte-carlo-la-traviata
LOCATION:Place du Casino
URL:https://www.principocket.com/event/7ef659bbbbb191a99b3fe4792d89686
 6/1695
DTSTAMP:20260424T141833Z
CREATED:20230315T164548Z
LAST-MODIFIED:20230315T164548Z
END:VEVENT
END:VCALENDAR
