BEGIN:VCALENDAR
VERSION:2.0
PRODID:-//Microsoft Corporation//Outlook 16.0 MIMEDIR//FR
CALSCALE:GREGORIAN
METHOD:PUBLISH
X-WR-TIMEZONE:Europe/Monaco
X-MS-OLK-FORCEINSPECTOROPEN:"TRUE"
BEGIN:VTIMEZONE
TZID:Europe/Monaco
BEGIN:STANDARD
DTSTART:20231029T010000
TZOFFSETTO:+0100
TZOFFSETFROM:+0200
RRULE:FREQ=YEARLY;BYMONTH=11;BYDAY=1SU
END:STANDARD
BEGIN:DAYLIGHT
DTSTART:20230326T010000
TZOFFSETTO:+0200
TZOFFSETFROM:+0100
RRULE:FREQ=YEARLY;BYMONTH=3;BYDAY=2SU
END:DAYLIGHT
END:VTIMEZONE
BEGIN:VEVENT
UID:1694-e325bc6aca25d26cfd7ad9526f2815ea-principocket.com\n
DTSTART:20230317T200000
DTEND:20230317T200000
TRANSP:TRANSPARENT
IMAGE;VALUE=URI;DISPLAY=;FMTTYPE=image/png:https://app.monacoplatform.
 com/uploads/9W/9W3A7w0V3z.jpg
STATUS:CONFIRMED
SUMMARY:Opéra de Monte-Carlo - "La traviata"
DESCRIPTION:Friday 17 March 2023\, at 8 pm\, Opéra de Monte-Carlo - S
 alle Garnier\n\nOpéra de Monte-Carlo\, 2023 Season - La traviata by V
 erdi. Opera\, musical direction by Massimo Zanetti\, stage direction b
 y Jean-Louis Grinda.\n\n https://www.principocket.com/en/event/e325bc6
 aca25d26cfd7ad9526f2815ea/opera-de-monte-carlo-la-traviata
LOCATION:Place du Casino
URL:https://www.principocket.com/event/e325bc6aca25d26cfd7ad9526f2815e
 a/1694
DTSTAMP:20260424T160001Z
CREATED:20230315T164547Z
LAST-MODIFIED:20230315T164547Z
END:VEVENT
END:VCALENDAR
