BEGIN:VCALENDAR
VERSION:2.0
PRODID:-//Microsoft Corporation//Outlook 16.0 MIMEDIR//FR
CALSCALE:GREGORIAN
METHOD:PUBLISH
X-WR-TIMEZONE:Europe/Monaco
X-MS-OLK-FORCEINSPECTOROPEN:"TRUE"
BEGIN:VTIMEZONE
TZID:Europe/Monaco
BEGIN:STANDARD
DTSTART:20221030T010000
TZOFFSETTO:+0100
TZOFFSETFROM:+0200
RRULE:FREQ=YEARLY;BYMONTH=11;BYDAY=1SU
END:STANDARD
BEGIN:DAYLIGHT
DTSTART:20220327T010000
TZOFFSETTO:+0200
TZOFFSETFROM:+0100
RRULE:FREQ=YEARLY;BYMONTH=3;BYDAY=2SU
END:DAYLIGHT
END:VTIMEZONE
BEGIN:VEVENT
UID:1648-69156ac4e9edc5e881dbec5655f9243e-principocket.com\n
DTSTART:20221213T200000
DTEND:20221213T200000
TRANSP:TRANSPARENT
IMAGE;VALUE=URI;DISPLAY=;FMTTYPE=image/png:https://app.monacoplatform.
 com/uploads/PA/PAxhHHdJIa.jpg
STATUS:CONFIRMED
SUMMARY:The Art of the Cinema - "The Dead"
DESCRIPTION:Tuesday 13 December 2022\, at 8 pm\, Théâtre des Variét
 és\n\nMovie Tuesdays "The Christmas movie" - The Dead by John Huston 
 (1988). Like his heroine\, John Huston had a well-kept secret: a deep 
 sensivity that runs through this surprising and touching film. Organis
 ed by the Audiovisual Institute of Monaco.\n\n https://www.principocke
 t.com/en/event/69156ac4e9edc5e881dbec5655f9243e/the-art-of-the-cinema-
 the-dead
LOCATION:1\, boulevard Albert Ier
URL:https://www.principocket.com/event/69156ac4e9edc5e881dbec5655f9243
 e/1648
DTSTAMP:20260424T142015Z
CREATED:20221116T112223Z
LAST-MODIFIED:20221116T112223Z
END:VEVENT
END:VCALENDAR
