BEGIN:VCALENDAR
VERSION:2.0
PRODID:-//Microsoft Corporation//Outlook 16.0 MIMEDIR//FR
CALSCALE:GREGORIAN
METHOD:PUBLISH
X-WR-TIMEZONE:Europe/Monaco
X-MS-OLK-FORCEINSPECTOROPEN:"TRUE"
BEGIN:VTIMEZONE
TZID:Europe/Monaco
BEGIN:STANDARD
DTSTART:20221030T010000
TZOFFSETTO:+0100
TZOFFSETFROM:+0200
RRULE:FREQ=YEARLY;BYMONTH=11;BYDAY=1SU
END:STANDARD
BEGIN:DAYLIGHT
DTSTART:20220327T010000
TZOFFSETTO:+0200
TZOFFSETFROM:+0100
RRULE:FREQ=YEARLY;BYMONTH=3;BYDAY=2SU
END:DAYLIGHT
END:VTIMEZONE
BEGIN:VEVENT
UID:1627-0a989482639880447edb8276ac4736f4-principocket.com\n
DTSTART:20221122T200000
DTEND:20221122T200000
TRANSP:TRANSPARENT
IMAGE;VALUE=URI;DISPLAY=;FMTTYPE=image/png:https://app.monacoplatform.
 com/uploads/gt/gt26XUZeYn.jpg
STATUS:CONFIRMED
SUMMARY:The Art of the Cinema - "The Cabinet of Dr. Caligari"
DESCRIPTION:Tuesday 22 November 2022\, at 8 pm\, Opéra de Monte-Carlo
  - Salle Garnier\n\nCine-concert - The Cabinet of Dr. Caligari by Robe
 rt Wiene (1920). Caligari is an intriguing and prophetic example of Ge
 rman expressionist filmmaking\, and at this event the screening will b
 e accompanied by an orchestral score. Organised by the Audiovisual Ins
 titute of Monaco in partnership with the Monte-Carlo Philharmonic Orch
 estra.\n\n https://www.principocket.com/en/event/0a989482639880447edb8
 276ac4736f4/the-art-of-the-cinema-the-cabinet-of-dr-caligari
LOCATION:Place du Casino
URL:https://www.principocket.com/event/0a989482639880447edb8276ac4736f
 4/1627
DTSTAMP:20260419T134125Z
CREATED:20221116T112222Z
LAST-MODIFIED:20221116T112222Z
END:VEVENT
END:VCALENDAR
