BEGIN:VCALENDAR
VERSION:2.0
PRODID:-//Microsoft Corporation//Outlook 16.0 MIMEDIR//FR
CALSCALE:GREGORIAN
METHOD:PUBLISH
X-WR-TIMEZONE:Europe/Monaco
X-MS-OLK-FORCEINSPECTOROPEN:"TRUE"
BEGIN:VTIMEZONE
TZID:Europe/Monaco
BEGIN:STANDARD
DTSTART:20221030T010000
TZOFFSETTO:+0100
TZOFFSETFROM:+0200
RRULE:FREQ=YEARLY;BYMONTH=11;BYDAY=1SU
END:STANDARD
BEGIN:DAYLIGHT
DTSTART:20220327T010000
TZOFFSETTO:+0200
TZOFFSETFROM:+0100
RRULE:FREQ=YEARLY;BYMONTH=3;BYDAY=2SU
END:DAYLIGHT
END:VTIMEZONE
BEGIN:VEVENT
UID:1626-9ec6ed70d9bab1a49f12fbf6fc20a15c-principocket.com\n
DTSTART:20221121T183000
DTEND:20221121T183000
TRANSP:TRANSPARENT
IMAGE;VALUE=URI;DISPLAY=;FMTTYPE=image/png:https://app.monacoplatform.
 com/uploads/ZK/ZK4CiT23us.jpg
STATUS:CONFIRMED
SUMMARY:Lecture - "Museums and maritime adventure: how to bring collec
 tions to life"
DESCRIPTION:Monday 21 November 2022\, at 6.30 pm\, Théâtre des Vari
 étés\n\nThe Association Monégasque pour la Connaissance des Arts (M
 onaco Art Appreciation Association) is pleased to present the lectures
  of the cycle "Thirst for adventure" - "Museums and maritime adventure
 : how to bring collections to life"\, Vincent BOUAT-FERLIER\, Heritage
  Curator\, Scientific Director of the Musée National de la Marine (Na
 tional Navy Museum).\n\n https://www.principocket.com/en/event/9ec6ed7
 0d9bab1a49f12fbf6fc20a15c/lecture-museums-and-maritime-adventure-how-t
 o-bring-collections-to-life
LOCATION:1\, boulevard Albert Ier
URL:https://www.principocket.com/event/9ec6ed70d9bab1a49f12fbf6fc20a15
 c/1626
DTSTAMP:20260419T211525Z
CREATED:20221116T112222Z
LAST-MODIFIED:20221116T112222Z
END:VEVENT
END:VCALENDAR
