BEGIN:VCALENDAR
VERSION:2.0
PRODID:-//Microsoft Corporation//Outlook 16.0 MIMEDIR//FR
CALSCALE:GREGORIAN
METHOD:PUBLISH
X-WR-TIMEZONE:Europe/Monaco
X-MS-OLK-FORCEINSPECTOROPEN:"TRUE"
BEGIN:VTIMEZONE
TZID:Europe/Monaco
BEGIN:STANDARD
DTSTART:20221030T010000
TZOFFSETTO:+0100
TZOFFSETFROM:+0200
RRULE:FREQ=YEARLY;BYMONTH=11;BYDAY=1SU
END:STANDARD
BEGIN:DAYLIGHT
DTSTART:20220327T010000
TZOFFSETTO:+0200
TZOFFSETFROM:+0100
RRULE:FREQ=YEARLY;BYMONTH=3;BYDAY=2SU
END:DAYLIGHT
END:VTIMEZONE
BEGIN:VEVENT
UID:1541-04ac245b6336c35a06049f979a3066de-principocket.com\n
DTSTART:20221217T200000
DTEND:20221217T200000
TRANSP:TRANSPARENT
IMAGE;VALUE=URI;DISPLAY=;FMTTYPE=image/png:https://app.monacoplatform.
 com/uploads/at/atYRpYPxdP.jpg
STATUS:CONFIRMED
SUMMARY:Concert - "Piotr Anderszewski Recital"
DESCRIPTION:Saturday 17 December 2022\, at 8 pm\, Auditorium Rainier I
 II\n\nMonte-Carlo Philharmonic Orchestra\, 22/23 season under the Pres
 idency of H.R.H. the Princess of Hanover - "Piotr Anderszewski Recital
 " with Piotr Anderszewski (piano). Music by Bach and Beethoven.\n\n ht
 tps://www.principocket.com/en/event/04ac245b6336c35a06049f979a3066de/c
 oncert-piotr-anderszewski-recital
LOCATION:Boulevard Louis II
URL:https://www.principocket.com/event/04ac245b6336c35a06049f979a3066d
 e/1541
DTSTAMP:20260424T123412Z
CREATED:20221215T093823Z
LAST-MODIFIED:20221215T093823Z
END:VEVENT
END:VCALENDAR
