BEGIN:VCALENDAR
VERSION:2.0
PRODID:-//Microsoft Corporation//Outlook 16.0 MIMEDIR//FR
CALSCALE:GREGORIAN
METHOD:PUBLISH
X-WR-TIMEZONE:Europe/Monaco
X-MS-OLK-FORCEINSPECTOROPEN:"TRUE"
BEGIN:VTIMEZONE
TZID:Europe/Monaco
BEGIN:STANDARD
DTSTART:20221030T010000
TZOFFSETTO:+0100
TZOFFSETFROM:+0200
RRULE:FREQ=YEARLY;BYMONTH=11;BYDAY=1SU
END:STANDARD
BEGIN:DAYLIGHT
DTSTART:20220327T010000
TZOFFSETTO:+0200
TZOFFSETFROM:+0100
RRULE:FREQ=YEARLY;BYMONTH=3;BYDAY=2SU
END:DAYLIGHT
END:VTIMEZONE
BEGIN:VEVENT
UID:1400-2d90dd0fd26f220f5c3fc2430ebd43ab-principocket.com\n
DTSTART:20220428T210000
DTEND:20220430T210000
TRANSP:TRANSPARENT
IMAGE;VALUE=URI;DISPLAY=;FMTTYPE=image/png:https://app.monacoplatform.
 com/uploads/AP/APqUEquTQS.jpg
STATUS:CONFIRMED
SUMMARY:Concert
DESCRIPTION:From Thursday 28 to Friday 29 April 2022\, at 9 pm\, La No
 te Bleue\n\n"Allysha Joy Trio" with Allycha Joy performing live in con
 cert\, organised by La Note Bleue\n\n https://www.principocket.com/en/
 event/2d90dd0fd26f220f5c3fc2430ebd43ab/concert
LOCATION:Plage du Larvotto - Avenue Princesse Grace
URL:https://www.principocket.com/event/2d90dd0fd26f220f5c3fc2430ebd43a
 b/1400
DTSTAMP:20260420T102836Z
CREATED:20220419T092307Z
LAST-MODIFIED:20220419T092307Z
END:VEVENT
END:VCALENDAR
