BEGIN:VCALENDAR
VERSION:2.0
PRODID:-//Microsoft Corporation//Outlook 16.0 MIMEDIR//FR
CALSCALE:GREGORIAN
METHOD:PUBLISH
X-WR-TIMEZONE:Europe/Monaco
X-MS-OLK-FORCEINSPECTOROPEN:"TRUE"
BEGIN:VTIMEZONE
TZID:Europe/Monaco
BEGIN:STANDARD
DTSTART:20221030T010000
TZOFFSETTO:+0100
TZOFFSETFROM:+0200
RRULE:FREQ=YEARLY;BYMONTH=11;BYDAY=1SU
END:STANDARD
BEGIN:DAYLIGHT
DTSTART:20220327T010000
TZOFFSETTO:+0200
TZOFFSETFROM:+0100
RRULE:FREQ=YEARLY;BYMONTH=3;BYDAY=2SU
END:DAYLIGHT
END:VTIMEZONE
BEGIN:VEVENT
UID:1379-f6de809d735fcf942e4b286265be6da7-principocket.com\n
DTSTART:20220811T200000
DTEND:20220811T200000
TRANSP:TRANSPARENT
IMAGE;VALUE=URI;DISPLAY=;FMTTYPE=image/png:https://app.monacoplatform.
 com/uploads/hp/hpqhGj_9e6.jpg
STATUS:CONFIRMED
SUMMARY:Night of the Orient
DESCRIPTION:Thursday 11 August 2022\, at 8 pm Salle des Etoiles\n\nMon
 te-Carlo Summer Festival 2022: Night of the Orient\n\n https://www.pri
 ncipocket.com/en/event/f6de809d735fcf942e4b286265be6da7/night-of-the-o
 rient
LOCATION:26\, avenue Princesse Grace
URL:https://www.principocket.com/event/f6de809d735fcf942e4b286265be6da
 7/1379
DTSTAMP:20260422T203058Z
CREATED:20220726T074101Z
LAST-MODIFIED:20220726T074101Z
END:VEVENT
END:VCALENDAR
