BEGIN:VCALENDAR
VERSION:2.0
PRODID:-//Microsoft Corporation//Outlook 16.0 MIMEDIR//FR
CALSCALE:GREGORIAN
METHOD:PUBLISH
X-WR-TIMEZONE:Europe/Monaco
X-MS-OLK-FORCEINSPECTOROPEN:"TRUE"
BEGIN:VTIMEZONE
TZID:Europe/Monaco
BEGIN:STANDARD
DTSTART:20221030T010000
TZOFFSETTO:+0100
TZOFFSETFROM:+0200
RRULE:FREQ=YEARLY;BYMONTH=11;BYDAY=1SU
END:STANDARD
BEGIN:DAYLIGHT
DTSTART:20220327T010000
TZOFFSETTO:+0200
TZOFFSETFROM:+0100
RRULE:FREQ=YEARLY;BYMONTH=3;BYDAY=2SU
END:DAYLIGHT
END:VTIMEZONE
BEGIN:VEVENT
UID:1378-521122cf5c07da66257f89c4e47cf376-principocket.com\n
DTSTART:20220807T200000
DTEND:20220807T200000
TRANSP:TRANSPARENT
IMAGE;VALUE=URI;DISPLAY=;FMTTYPE=image/png:https://app.monacoplatform.
 com/uploads/Mt/MtAlvcSXnh.jpg
STATUS:CONFIRMED
SUMMARY:Concert - "Gianna Nannini"
DESCRIPTION:Sunday 7 August 2022\, at 8 pm Salle des Etoiles\n\nMonte-
 Carlo Summer Festival 2022: Gianna Nannini\n\n https://www.principocke
 t.com/en/event/521122cf5c07da66257f89c4e47cf376/concert-gianna-nannini
LOCATION:26\, avenue Princesse Grace
URL:https://www.principocket.com/event/521122cf5c07da66257f89c4e47cf37
 6/1378
DTSTAMP:20260422T154417Z
CREATED:20220726T074101Z
LAST-MODIFIED:20220726T074101Z
END:VEVENT
END:VCALENDAR
