BEGIN:VCALENDAR
VERSION:2.0
PRODID:-//Microsoft Corporation//Outlook 16.0 MIMEDIR//FR
CALSCALE:GREGORIAN
METHOD:PUBLISH
X-WR-TIMEZONE:Europe/Monaco
X-MS-OLK-FORCEINSPECTOROPEN:"TRUE"
BEGIN:VTIMEZONE
TZID:Europe/Monaco
BEGIN:STANDARD
DTSTART:20221030T010000
TZOFFSETTO:+0100
TZOFFSETFROM:+0200
RRULE:FREQ=YEARLY;BYMONTH=11;BYDAY=1SU
END:STANDARD
BEGIN:DAYLIGHT
DTSTART:20220327T010000
TZOFFSETTO:+0200
TZOFFSETFROM:+0100
RRULE:FREQ=YEARLY;BYMONTH=3;BYDAY=2SU
END:DAYLIGHT
END:VTIMEZONE
BEGIN:VEVENT
UID:1376-ce5e87c2fc704df30ffe1f389974a6e4-principocket.com\n
DTSTART:20220731T200000
DTEND:20220731T200000
TRANSP:TRANSPARENT
IMAGE;VALUE=URI;DISPLAY=;FMTTYPE=image/png:https://app.monacoplatform.
 com/uploads/AP/AP4JA76Zo5.jpg
STATUS:CONFIRMED
SUMMARY:Concert - "Rita Ora"
DESCRIPTION:Sunday 31 July 2022\, at 8 pm Salle des Etoiles\n\nMonte-C
 arlo Summer Festival 2022: Rita Ora\n\n https://www.principocket.com/e
 n/event/ce5e87c2fc704df30ffe1f389974a6e4/concert-rita-ora
LOCATION:26\, avenue Princesse Grace
URL:https://www.principocket.com/event/ce5e87c2fc704df30ffe1f389974a6e
 4/1376
DTSTAMP:20260422T123115Z
CREATED:20220726T074100Z
LAST-MODIFIED:20220726T074100Z
END:VEVENT
END:VCALENDAR
