BEGIN:VCALENDAR
VERSION:2.0
PRODID:-//Microsoft Corporation//Outlook 16.0 MIMEDIR//FR
CALSCALE:GREGORIAN
METHOD:PUBLISH
X-WR-TIMEZONE:Europe/Monaco
X-MS-OLK-FORCEINSPECTOROPEN:"TRUE"
BEGIN:VTIMEZONE
TZID:Europe/Monaco
BEGIN:STANDARD
DTSTART:20211031T010000
TZOFFSETTO:+0100
TZOFFSETFROM:+0200
RRULE:FREQ=YEARLY;BYMONTH=11;BYDAY=1SU
END:STANDARD
BEGIN:DAYLIGHT
DTSTART:20210328T010000
TZOFFSETTO:+0200
TZOFFSETFROM:+0100
RRULE:FREQ=YEARLY;BYMONTH=3;BYDAY=2SU
END:DAYLIGHT
END:VTIMEZONE
BEGIN:VEVENT
UID:1204-38c38bc4291001eb80ba819067db43ae-principocket.com\n
DTSTART:20211130T193000
DTEND:20211130T193000
TRANSP:TRANSPARENT
IMAGE;VALUE=URI;DISPLAY=;FMTTYPE=image/png:https://app.monacoplatform.
 com/uploads/F9/F9oc_Q6VUL.jpg
STATUS:CONFIRMED
SUMMARY:Joséphine Baker Tribute
DESCRIPTION:Tuesday 30 November 2021\, at 7.30 pm Bar Américain\n\nJo
 séphine Baker Tribute at the Bar Américain\, organised by Monte-Carl
 o Société des Bains de Mer. Led by Axel Jaffray\, music journalist a
 nd producer\, accompanied by the famous singer's best known tunes\, pe
 rformed by a jazz group. Previously unseen archive photographs will be
  displayed throughout the evening.\n\n https://www.principocket.com/en
 /event/38c38bc4291001eb80ba819067db43ae/josephine-baker-tribute
LOCATION:Hôtel de Paris Monte-Carlo Place du Casino
URL:https://www.principocket.com/event/38c38bc4291001eb80ba819067db43a
 e/1204
DTSTAMP:20260422T104711Z
CREATED:20211122T163222Z
LAST-MODIFIED:20211122T163222Z
END:VEVENT
END:VCALENDAR
