BEGIN:VCALENDAR
VERSION:2.0
PRODID:-//Microsoft Corporation//Outlook 16.0 MIMEDIR//FR
CALSCALE:GREGORIAN
METHOD:PUBLISH
X-WR-TIMEZONE:Europe/Monaco
X-MS-OLK-FORCEINSPECTOROPEN:"TRUE"
BEGIN:VTIMEZONE
TZID:Europe/Monaco
BEGIN:STANDARD
DTSTART:20211031T010000
TZOFFSETTO:+0100
TZOFFSETFROM:+0200
RRULE:FREQ=YEARLY;BYMONTH=11;BYDAY=1SU
END:STANDARD
BEGIN:DAYLIGHT
DTSTART:20210328T010000
TZOFFSETTO:+0200
TZOFFSETFROM:+0100
RRULE:FREQ=YEARLY;BYMONTH=3;BYDAY=2SU
END:DAYLIGHT
END:VTIMEZONE
BEGIN:VEVENT
UID:1203-9989d01fc6c8266539447fbbb9ddedf2-principocket.com\n
DTSTART:20211129T183000
DTEND:20211129T183000
TRANSP:TRANSPARENT
IMAGE;VALUE=URI;DISPLAY=;FMTTYPE=image/png:https://app.monacoplatform.
 com/uploads/vt/vtA4ukjyGR.jpg
STATUS:CONFIRMED
SUMMARY:Book Signing
DESCRIPTION:Monday 29 November 2021\, at 6.30 pm Médiathèque de Mona
 co - Bibliothèque Louis Notari\n\n"Les Femmes et le Monde de l’Art"
  ("Women and the Art World") by Caroline Deyns and Carole Fives\, orga
 nised by Monaco Library\n\n https://www.principocket.com/en/event/9989
 d01fc6c8266539447fbbb9ddedf2/book-signing
LOCATION:5 Promenade Honoré II\, Monaco
URL:https://www.principocket.com/event/9989d01fc6c8266539447fbbb9ddedf
 2/1203
DTSTAMP:20260422T103018Z
CREATED:20211122T163222Z
LAST-MODIFIED:20211122T163222Z
END:VEVENT
END:VCALENDAR
