BEGIN:VCALENDAR
VERSION:2.0
PRODID:-//Microsoft Corporation//Outlook 16.0 MIMEDIR//FR
CALSCALE:GREGORIAN
METHOD:PUBLISH
X-WR-TIMEZONE:Europe/Monaco
X-MS-OLK-FORCEINSPECTOROPEN:"TRUE"
BEGIN:VTIMEZONE
TZID:Europe/Monaco
BEGIN:STANDARD
DTSTART:20221030T010000
TZOFFSETTO:+0100
TZOFFSETFROM:+0200
RRULE:FREQ=YEARLY;BYMONTH=11;BYDAY=1SU
END:STANDARD
BEGIN:DAYLIGHT
DTSTART:20220327T010000
TZOFFSETTO:+0200
TZOFFSETFROM:+0100
RRULE:FREQ=YEARLY;BYMONTH=3;BYDAY=2SU
END:DAYLIGHT
END:VTIMEZONE
BEGIN:VEVENT
UID:1183-1e828be5f46b67899f75232ee77bc3b3-principocket.com\n
DTSTART:20220120T000000
DTEND:20220124T235900
TRANSP:TRANSPARENT
IMAGE;VALUE=URI;DISPLAY=;FMTTYPE=image/png:https://app.monacoplatform.
 com/uploads/S5/S5Xah3_vog.jpg
STATUS:CONFIRMED
SUMMARY:Gaby la Magnifique
DESCRIPTION:Thursday 20\, Friday 21 and Saturday 22 at 8.30 pm\, Sunda
 y 23 January 2022 at 4.30 pm Théâtre des Muses\n\n"Gaby la Magnifiqu
 e" ("Gaby The Magnificent") by Mireille Doering\, with Cléo Sénia\, 
 Jean-Christophe Born and Diego Bordonaro\n\n https://www.principocket.
 com/en/event/1e828be5f46b67899f75232ee77bc3b3/gaby-la-magnifique
LOCATION:45\, boulevard du Jardin Exotique
URL:https://www.principocket.com/event/1e828be5f46b67899f75232ee77bc3b
 3/1183
DTSTAMP:20260420T122519Z
CREATED:20220117T085732Z
LAST-MODIFIED:20220117T085732Z
X-MICROSOFT-CDO-ALLDAYEVENT:TRUE
END:VEVENT
END:VCALENDAR
