BEGIN:VCALENDAR
VERSION:2.0
PRODID:-//Microsoft Corporation//Outlook 16.0 MIMEDIR//FR
CALSCALE:GREGORIAN
METHOD:PUBLISH
X-WR-TIMEZONE:Europe/Monaco
X-MS-OLK-FORCEINSPECTOROPEN:"TRUE"
BEGIN:VTIMEZONE
TZID:Europe/Monaco
BEGIN:STANDARD
DTSTART:20221030T010000
TZOFFSETTO:+0100
TZOFFSETFROM:+0200
RRULE:FREQ=YEARLY;BYMONTH=11;BYDAY=1SU
END:STANDARD
BEGIN:DAYLIGHT
DTSTART:20220327T010000
TZOFFSETTO:+0200
TZOFFSETFROM:+0100
RRULE:FREQ=YEARLY;BYMONTH=3;BYDAY=2SU
END:DAYLIGHT
END:VTIMEZONE
BEGIN:VEVENT
UID:1179-07132f638187612f15ae98a07189e5bf-principocket.com\n
DTSTART:20220106T000000
DTEND:20220110T235900
TRANSP:TRANSPARENT
IMAGE;VALUE=URI;DISPLAY=;FMTTYPE=image/png:https://app.monacoplatform.
 com/uploads/-M/-MfPYGTwMX.jpg
STATUS:CONFIRMED
SUMMARY:Le Titre Est Provisoire
DESCRIPTION:Thursday 6\, Friday 7 and Saturday 8 at 8.30 pm\, Sunday 9
  January 2022 at 4.30 pm Théâtre des Muses\n\n"Le Titre Est Provisoi
 re" ("Working Title") by Christophe Corsand\, with Elie Rapp\, Olivier
  Doran or Jean-Philippe Azéma and Christophe Corsand\n\n https://www.
 principocket.com/en/event/07132f638187612f15ae98a07189e5bf/le-titre-es
 t-provisoire
LOCATION:45\, boulevard du Jardin Exotique
URL:https://www.principocket.com/event/07132f638187612f15ae98a07189e5b
 f/1179
DTSTAMP:20260422T190654Z
CREATED:20220106T080345Z
LAST-MODIFIED:20220106T080345Z
X-MICROSOFT-CDO-ALLDAYEVENT:TRUE
END:VEVENT
END:VCALENDAR
