BEGIN:VCALENDAR
VERSION:2.0
PRODID:-//Microsoft Corporation//Outlook 16.0 MIMEDIR//FR
CALSCALE:GREGORIAN
METHOD:PUBLISH
X-WR-TIMEZONE:Europe/Monaco
X-MS-OLK-FORCEINSPECTOROPEN:"TRUE"
BEGIN:VTIMEZONE
TZID:Europe/Monaco
BEGIN:STANDARD
DTSTART:20211031T010000
TZOFFSETTO:+0100
TZOFFSETFROM:+0200
RRULE:FREQ=YEARLY;BYMONTH=11;BYDAY=1SU
END:STANDARD
BEGIN:DAYLIGHT
DTSTART:20210328T010000
TZOFFSETTO:+0200
TZOFFSETFROM:+0100
RRULE:FREQ=YEARLY;BYMONTH=3;BYDAY=2SU
END:DAYLIGHT
END:VTIMEZONE
BEGIN:VEVENT
UID:1177-4b4e8e1d645f9bab31ef6a540b0f087e-principocket.com\n
DTSTART:20211228T000000
DTEND:20211231T235900
TRANSP:TRANSPARENT
IMAGE;VALUE=URI;DISPLAY=;FMTTYPE=image/png:https://app.monacoplatform.
 com/uploads/eF/eF3FQrfWhL.jpg
STATUS:CONFIRMED
SUMMARY:Rudolph
DESCRIPTION:Tuesday 28 December at 4.30 pm\, Wednesday 29 at 11 am and
  4.30 pm\, Thursday 30 December 2022 at 4.30 pm Théâtre des Muses\n\
 n"Rudolph" by Laura Chiche and Julie Duquenoÿ\, with Laura Chiche and
  Jo Zeugma\n\n https://www.principocket.com/en/event/4b4e8e1d645f9bab3
 1ef6a540b0f087e/rudolph
LOCATION:45\, boulevard du Jardin Exotique
URL:https://www.principocket.com/event/4b4e8e1d645f9bab31ef6a540b0f087
 e/1177
DTSTAMP:20260422T220144Z
CREATED:20211210T101854Z
LAST-MODIFIED:20211210T101854Z
X-MICROSOFT-CDO-ALLDAYEVENT:TRUE
END:VEVENT
END:VCALENDAR
