BEGIN:VCALENDAR
VERSION:2.0
PRODID:-//Microsoft Corporation//Outlook 16.0 MIMEDIR//FR
CALSCALE:GREGORIAN
METHOD:PUBLISH
X-WR-TIMEZONE:Europe/Monaco
X-MS-OLK-FORCEINSPECTOROPEN:"TRUE"
BEGIN:VTIMEZONE
TZID:Europe/Monaco
BEGIN:STANDARD
DTSTART:20211031T010000
TZOFFSETTO:+0100
TZOFFSETFROM:+0200
RRULE:FREQ=YEARLY;BYMONTH=11;BYDAY=1SU
END:STANDARD
BEGIN:DAYLIGHT
DTSTART:20210328T010000
TZOFFSETTO:+0200
TZOFFSETFROM:+0100
RRULE:FREQ=YEARLY;BYMONTH=3;BYDAY=2SU
END:DAYLIGHT
END:VTIMEZONE
BEGIN:VEVENT
UID:1175-af589dc0a28000320c88b4cd8fa41869-principocket.com\n
DTSTART:20211216T000000
DTEND:20211220T235900
TRANSP:TRANSPARENT
IMAGE;VALUE=URI;DISPLAY=;FMTTYPE=image/png:https://app.monacoplatform.
 com/uploads/kJ/kJAvOKLc0N.jpg
STATUS:CONFIRMED
SUMMARY:Romeo and Juliet
DESCRIPTION:Thursday 16\, Friday 17 and Saturday 18 December at 8.30 p
 m\, Sunday 19 December 2021 at 4.30 pm Théâtre des Muses\n\n"Romeo a
 nd Juliet" by William Shakespeare with Xavier Berlioz\, Jean-Baptiste 
 des Boscs (cello)\, Claire Faurot (accordion)\, Manon Montel\, Léo Pa
 get and Thomas Willaime\n\n https://www.principocket.com/en/event/af58
 9dc0a28000320c88b4cd8fa41869/romeo-and-juliet
LOCATION:45\, boulevard du Jardin Exotique
URL:https://www.principocket.com/event/af589dc0a28000320c88b4cd8fa4186
 9/1175
DTSTAMP:20260423T011702Z
CREATED:20211210T101854Z
LAST-MODIFIED:20211210T101854Z
X-MICROSOFT-CDO-ALLDAYEVENT:TRUE
END:VEVENT
END:VCALENDAR
