BEGIN:VCALENDAR
VERSION:2.0
PRODID:-//Microsoft Corporation//Outlook 16.0 MIMEDIR//FR
CALSCALE:GREGORIAN
METHOD:PUBLISH
X-WR-TIMEZONE:Europe/Monaco
X-MS-OLK-FORCEINSPECTOROPEN:"TRUE"
BEGIN:VTIMEZONE
TZID:Europe/Monaco
BEGIN:STANDARD
DTSTART:20211031T010000
TZOFFSETTO:+0100
TZOFFSETFROM:+0200
RRULE:FREQ=YEARLY;BYMONTH=11;BYDAY=1SU
END:STANDARD
BEGIN:DAYLIGHT
DTSTART:20210328T010000
TZOFFSETTO:+0200
TZOFFSETFROM:+0100
RRULE:FREQ=YEARLY;BYMONTH=3;BYDAY=2SU
END:DAYLIGHT
END:VTIMEZONE
BEGIN:VEVENT
UID:1174-9821db716d2aae8ae8f4523e6ebb8679-principocket.com\n
DTSTART:20211209T000000
DTEND:20211213T235900
TRANSP:TRANSPARENT
IMAGE;VALUE=URI;DISPLAY=;FMTTYPE=image/png:https://app.monacoplatform.
 com/uploads/ma/mavs2CEIWS.jpg
STATUS:CONFIRMED
SUMMARY:Chaplin, 1939
DESCRIPTION:Thursday 9\, Friday 10 and Saturday 11 at 8.30 pm\, Sunday
  12 December 2021 at 4.30 pm Théâtre des Muses\n\n"Chaplin\, 1939" b
 y Cliff Paillé\, with Romain Arnaud-Kneisky\, Swan Starosta and Alexa
 ndre Cattez\n\n https://www.principocket.com/en/event/9821db716d2aae8a
 e8f4523e6ebb8679/chaplin-1939
LOCATION:45\, boulevard du Jardin Exotique
URL:https://www.principocket.com/event/9821db716d2aae8ae8f4523e6ebb867
 9/1174
DTSTAMP:20260423T031013Z
CREATED:20211210T101854Z
LAST-MODIFIED:20211210T101854Z
X-MICROSOFT-CDO-ALLDAYEVENT:TRUE
END:VEVENT
END:VCALENDAR
