BEGIN:VCALENDAR
VERSION:2.0
PRODID:-//Microsoft Corporation//Outlook 16.0 MIMEDIR//FR
CALSCALE:GREGORIAN
METHOD:PUBLISH
X-WR-TIMEZONE:Europe/Monaco
X-MS-OLK-FORCEINSPECTOROPEN:"TRUE"
BEGIN:VTIMEZONE
TZID:Europe/Monaco
BEGIN:STANDARD
DTSTART:20211031T010000
TZOFFSETTO:+0100
TZOFFSETFROM:+0200
RRULE:FREQ=YEARLY;BYMONTH=11;BYDAY=1SU
END:STANDARD
BEGIN:DAYLIGHT
DTSTART:20210328T010000
TZOFFSETTO:+0200
TZOFFSETFROM:+0100
RRULE:FREQ=YEARLY;BYMONTH=3;BYDAY=2SU
END:DAYLIGHT
END:VTIMEZONE
BEGIN:VEVENT
UID:1173-d4d43a4ee332feb111c95e40664ed31c-principocket.com\n
DTSTART:20211208T000000
DTEND:20211213T235900
TRANSP:TRANSPARENT
IMAGE;VALUE=URI;DISPLAY=;FMTTYPE=image/png:https://app.monacoplatform.
 com/uploads/t5/t5Rub3NPqV.jpg
STATUS:CONFIRMED
SUMMARY:Pinocchio
DESCRIPTION:Wednesday 8 at 4.30 pm\, Saturday 11 at 2.30 pm and 4.30 p
 m\, Sunday 12 December 2022 at 11 am Théâtre des Muses\n\n"Pinocchio
 " by Carlo Collodi\, with Alexandre Tourneur and Charlotte Fabre or Ma
 thilde Puget or Amélie Gonin\n\n https://www.principocket.com/en/even
 t/d4d43a4ee332feb111c95e40664ed31c/pinocchio
LOCATION:45\, boulevard du Jardin Exotique
URL:https://www.principocket.com/event/d4d43a4ee332feb111c95e40664ed31
 c/1173
DTSTAMP:20260423T044018Z
CREATED:20211210T101854Z
LAST-MODIFIED:20211210T101854Z
X-MICROSOFT-CDO-ALLDAYEVENT:TRUE
END:VEVENT
END:VCALENDAR
