BEGIN:VCALENDAR
VERSION:2.0
PRODID:-//Microsoft Corporation//Outlook 16.0 MIMEDIR//FR
CALSCALE:GREGORIAN
METHOD:PUBLISH
X-WR-TIMEZONE:Europe/Monaco
X-MS-OLK-FORCEINSPECTOROPEN:"TRUE"
BEGIN:VTIMEZONE
TZID:Europe/Monaco
BEGIN:STANDARD
DTSTART:20211031T010000
TZOFFSETTO:+0100
TZOFFSETFROM:+0200
RRULE:FREQ=YEARLY;BYMONTH=11;BYDAY=1SU
END:STANDARD
BEGIN:DAYLIGHT
DTSTART:20210328T010000
TZOFFSETTO:+0200
TZOFFSETFROM:+0100
RRULE:FREQ=YEARLY;BYMONTH=3;BYDAY=2SU
END:DAYLIGHT
END:VTIMEZONE
BEGIN:VEVENT
UID:1170-e2e6738c7f5ece38b84e9553bb5ebe28-principocket.com\n
DTSTART:20211125T000000
DTEND:20211129T235900
TRANSP:TRANSPARENT
IMAGE;VALUE=URI;DISPLAY=;FMTTYPE=image/png:https://app.monacoplatform.
 com/uploads/4N/4Nn2Lme3eq.jpg
STATUS:CONFIRMED
SUMMARY:Swing Heil
DESCRIPTION:Thursday 25\, Friday 26\, Saturday 27 at 8.30 pm\, and Sun
 day 28 November 2021 at 4.30 pm Théâtre des Muses\n\n"Swing Heil" by
  Romuald Borys\, with Jimmy Daumas\n\n https://www.principocket.com/en
 /event/e2e6738c7f5ece38b84e9553bb5ebe28/swing-heil
LOCATION:45\, boulevard du Jardin Exotique
URL:https://www.principocket.com/event/e2e6738c7f5ece38b84e9553bb5ebe2
 8/1170
DTSTAMP:20260420T140144Z
CREATED:20211122T163222Z
LAST-MODIFIED:20211122T163222Z
X-MICROSOFT-CDO-ALLDAYEVENT:TRUE
END:VEVENT
END:VCALENDAR
